BEGIN:VCALENDAR
VERSION:2.0
PRODID:-//Baptisten Gemeente Winschoten - ECPv6.15.20//NONSGML v1.0//EN
CALSCALE:GREGORIAN
METHOD:PUBLISH
X-ORIGINAL-URL:https://www.baptisten-winschoten.nl
X-WR-CALDESC:Evenementen voor Baptisten Gemeente Winschoten
REFRESH-INTERVAL;VALUE=DURATION:PT1H
X-Robots-Tag:noindex
X-PUBLISHED-TTL:PT1H
BEGIN:VTIMEZONE
TZID:UTC
BEGIN:STANDARD
TZOFFSETFROM:+0000
TZOFFSETTO:+0000
TZNAME:UTC
DTSTART:20170101T000000
END:STANDARD
END:VTIMEZONE
BEGIN:VEVENT
DTSTART;TZID=UTC:20180603T093000
DTEND;TZID=UTC:20180603T110000
DTSTAMP:20260426T072748
CREATED:20180605T171220Z
LAST-MODIFIED:20180605T171652Z
UID:3704-1528018200-1528023600@www.baptisten-winschoten.nl
SUMMARY:Avondmaalsdienst
DESCRIPTION:Dienst\, met br. S de Boer \nTijdens de dienst viering van het Avondmaal \nNa de dienst koffie drinken
URL:https://www.baptisten-winschoten.nl/item/avondmaalsdienst-33/
LOCATION:Kerkgebouw\, Azaleastraat 16A\, Winschoten\, Nederland
CATEGORIES:Diensten / Bijeenkomsten
END:VEVENT
BEGIN:VEVENT
DTSTART;TZID=UTC:20180610T093000
DTEND;TZID=UTC:20180610T110000
DTSTAMP:20260426T072748
CREATED:20180605T171505Z
LAST-MODIFIED:20180605T171505Z
UID:3716-1528623000-1528628400@www.baptisten-winschoten.nl
SUMMARY:Dienst
DESCRIPTION:Dienst\, met br. J. Hooiveld \nNa de dienst koffie drinken
URL:https://www.baptisten-winschoten.nl/item/dienst-116/
LOCATION:Kerkgebouw\, Azaleastraat 16A\, Winschoten\, Nederland
CATEGORIES:Diensten / Bijeenkomsten
END:VEVENT
BEGIN:VEVENT
DTSTART;TZID=UTC:20180617T093000
DTEND;TZID=UTC:20180617T110000
DTSTAMP:20260426T072748
CREATED:20180605T171732Z
LAST-MODIFIED:20180605T171732Z
UID:3721-1529227800-1529233200@www.baptisten-winschoten.nl
SUMMARY:Dienst
DESCRIPTION:Dienst met ds. Smink \nNa de dienst koffie drinken
URL:https://www.baptisten-winschoten.nl/item/dienst-115/
LOCATION:Kerkgebouw\, Azaleastraat 16A\, Winschoten\, Nederland
CATEGORIES:Diensten / Bijeenkomsten
END:VEVENT
BEGIN:VEVENT
DTSTART;TZID=UTC:20180624T093000
DTEND;TZID=UTC:20180624T110000
DTSTAMP:20260426T072748
CREATED:20180605T171806Z
LAST-MODIFIED:20180605T171806Z
UID:3723-1529832600-1529838000@www.baptisten-winschoten.nl
SUMMARY:Dienst
DESCRIPTION:Dienst\, met ds. Smink \nNa de dienst koffie drinken
URL:https://www.baptisten-winschoten.nl/item/dienst-117/
LOCATION:Kerkgebouw\, Azaleastraat 16A\, Winschoten\, Nederland
CATEGORIES:Diensten / Bijeenkomsten
END:VEVENT
END:VCALENDAR