BEGIN:VCALENDAR
VERSION:2.0
PRODID:-//Baptisten Gemeente Winschoten - ECPv6.15.20//NONSGML v1.0//EN
CALSCALE:GREGORIAN
METHOD:PUBLISH
X-WR-CALNAME:Baptisten Gemeente Winschoten
X-ORIGINAL-URL:https://www.baptisten-winschoten.nl
X-WR-CALDESC:Evenementen voor Baptisten Gemeente Winschoten
REFRESH-INTERVAL;VALUE=DURATION:PT1H
X-Robots-Tag:noindex
X-PUBLISHED-TTL:PT1H
BEGIN:VTIMEZONE
TZID:UTC
BEGIN:STANDARD
TZOFFSETFROM:+0000
TZOFFSETTO:+0000
TZNAME:UTC
DTSTART:20170101T000000
END:STANDARD
END:VTIMEZONE
BEGIN:VEVENT
DTSTART;TZID=UTC:20180701T093000
DTEND;TZID=UTC:20180701T110000
DTSTAMP:20260426T061716
CREATED:20180605T171901Z
LAST-MODIFIED:20180605T171901Z
UID:3725-1530437400-1530442800@www.baptisten-winschoten.nl
SUMMARY:Avondmaalsdienst
DESCRIPTION:Avondmaalsdienst\, met ds. Smink \nTijdens de dienst viering van het Avondmaal \nNa de dienst koffie drinken
URL:https://www.baptisten-winschoten.nl/item/avondmaalsdienst-34/
LOCATION:Kerkgebouw\, Azaleastraat 16A\, Winschoten\, Nederland
CATEGORIES:Diensten / Bijeenkomsten
END:VEVENT
BEGIN:VEVENT
DTSTART;TZID=UTC:20180715T093000
DTEND;TZID=UTC:20180715T110000
DTSTAMP:20260426T061716
CREATED:20180711T154443Z
LAST-MODIFIED:20180711T154443Z
UID:3802-1531647000-1531652400@www.baptisten-winschoten.nl
SUMMARY:Dienst
DESCRIPTION:Dienst\, met ds. Smink \nNa de dienst koffie drinken
URL:https://www.baptisten-winschoten.nl/item/dienst-119/
LOCATION:Kerkgebouw\, Azaleastraat 16A\, Winschoten\, Nederland
CATEGORIES:Diensten / Bijeenkomsten
END:VEVENT
BEGIN:VEVENT
DTSTART;TZID=UTC:20180715T143000
DTEND;TZID=UTC:20180715T160000
DTSTAMP:20260426T061716
CREATED:20180711T154528Z
LAST-MODIFIED:20180711T154528Z
UID:3804-1531665000-1531670400@www.baptisten-winschoten.nl
SUMMARY:Afscheidsdienst ds. Smink
DESCRIPTION:Afscheidsdienst ds. Smink
URL:https://www.baptisten-winschoten.nl/item/afscheidsdienst-ds-smink/
LOCATION:Kerkgebouw\, Azaleastraat 16A\, Winschoten\, Nederland
CATEGORIES:Diensten / Bijeenkomsten
END:VEVENT
BEGIN:VEVENT
DTSTART;TZID=UTC:20180722T093000
DTEND;TZID=UTC:20180722T110000
DTSTAMP:20260426T061716
CREATED:20180711T154612Z
LAST-MODIFIED:20180711T154612Z
UID:3806-1532251800-1532257200@www.baptisten-winschoten.nl
SUMMARY:Dienst
DESCRIPTION:Dienst\, met br. J. Hofman \nNa de dienst koffie drinken
URL:https://www.baptisten-winschoten.nl/item/dienst-120/
LOCATION:Kerkgebouw\, Azaleastraat 16A\, Winschoten\, Nederland
CATEGORIES:Diensten / Bijeenkomsten
END:VEVENT
BEGIN:VEVENT
DTSTART;TZID=UTC:20180729T093000
DTEND;TZID=UTC:20180729T110000
DTSTAMP:20260426T061716
CREATED:20180711T154651Z
LAST-MODIFIED:20180711T154651Z
UID:3808-1532856600-1532862000@www.baptisten-winschoten.nl
SUMMARY:Dienst
DESCRIPTION:Dienst\, met br. J. Hooiveld \nNa de dienst koffie drinken
URL:https://www.baptisten-winschoten.nl/item/dienst-121/
LOCATION:Kerkgebouw\, Azaleastraat 16A\, Winschoten\, Nederland
CATEGORIES:Diensten / Bijeenkomsten
END:VEVENT
END:VCALENDAR