BEGIN:VCALENDAR
VERSION:2.0
PRODID:-//Baptisten Gemeente Winschoten - ECPv6.15.20//NONSGML v1.0//EN
CALSCALE:GREGORIAN
METHOD:PUBLISH
X-ORIGINAL-URL:https://www.baptisten-winschoten.nl
X-WR-CALDESC:Evenementen voor Baptisten Gemeente Winschoten
REFRESH-INTERVAL;VALUE=DURATION:PT1H
X-Robots-Tag:noindex
X-PUBLISHED-TTL:PT1H
BEGIN:VTIMEZONE
TZID:UTC
BEGIN:STANDARD
TZOFFSETFROM:+0000
TZOFFSETTO:+0000
TZNAME:UTC
DTSTART:20170101T000000
END:STANDARD
END:VTIMEZONE
BEGIN:VEVENT
DTSTART;TZID=UTC:20180805T093000
DTEND;TZID=UTC:20180805T113000
DTSTAMP:20260426T045906
CREATED:20180711T154939Z
LAST-MODIFIED:20180711T154939Z
UID:3810-1533461400-1533468600@www.baptisten-winschoten.nl
SUMMARY:Avondmaalsdienst
DESCRIPTION:Avondmaalsdienst\, met br. J. Kruizinga \nTijdens de dienst viering van het avondmaal \nNa de dienst koffie drinken
URL:https://www.baptisten-winschoten.nl/item/avondmaalsdienst-35/
LOCATION:Kerkgebouw\, Azaleastraat 16A\, Winschoten\, Nederland
CATEGORIES:Diensten / Bijeenkomsten
END:VEVENT
BEGIN:VEVENT
DTSTART;TZID=UTC:20180812T093000
DTEND;TZID=UTC:20180812T110000
DTSTAMP:20260426T045906
CREATED:20180711T155050Z
LAST-MODIFIED:20180711T155050Z
UID:3815-1534066200-1534071600@www.baptisten-winschoten.nl
SUMMARY:Dienst
DESCRIPTION:Dienst\, met br. F. Stalman \nNa de dienst koffie drinken
URL:https://www.baptisten-winschoten.nl/item/dienst-122/
LOCATION:Kerkgebouw\, Azaleastraat 16A\, Winschoten\, Nederland
CATEGORIES:Diensten / Bijeenkomsten
END:VEVENT
BEGIN:VEVENT
DTSTART;TZID=UTC:20180819T093000
DTEND;TZID=UTC:20180819T110000
DTSTAMP:20260426T045906
CREATED:20180711T155134Z
LAST-MODIFIED:20180711T155134Z
UID:3817-1534671000-1534676400@www.baptisten-winschoten.nl
SUMMARY:Dienst
DESCRIPTION:Dienst\, met br. L Drenth \nNa de dienst koffie drinken
URL:https://www.baptisten-winschoten.nl/item/dienst-123/
LOCATION:Kerkgebouw\, Azaleastraat 16A\, Winschoten\, Nederland
CATEGORIES:Diensten / Bijeenkomsten
END:VEVENT
BEGIN:VEVENT
DTSTART;TZID=UTC:20180826T093000
DTEND;TZID=UTC:20180826T110000
DTSTAMP:20260426T045906
CREATED:20180711T155214Z
LAST-MODIFIED:20180711T155214Z
UID:3819-1535275800-1535281200@www.baptisten-winschoten.nl
SUMMARY:Dienst
DESCRIPTION:Dienst\, met br. H. Wieringa \nNa de dienst koffie drinken
URL:https://www.baptisten-winschoten.nl/item/dienst-124/
LOCATION:Kerkgebouw\, Azaleastraat 16A\, Winschoten\, Nederland
CATEGORIES:Diensten / Bijeenkomsten
END:VEVENT
END:VCALENDAR