BEGIN:VCALENDAR
VERSION:2.0
PRODID:-//Baptisten Gemeente Winschoten - ECPv6.15.20//NONSGML v1.0//EN
CALSCALE:GREGORIAN
METHOD:PUBLISH
X-ORIGINAL-URL:https://www.baptisten-winschoten.nl
X-WR-CALDESC:Evenementen voor Baptisten Gemeente Winschoten
REFRESH-INTERVAL;VALUE=DURATION:PT1H
X-Robots-Tag:noindex
X-PUBLISHED-TTL:PT1H
BEGIN:VTIMEZONE
TZID:UTC
BEGIN:STANDARD
TZOFFSETFROM:+0000
TZOFFSETTO:+0000
TZNAME:UTC
DTSTART:20170101T000000
END:STANDARD
END:VTIMEZONE
BEGIN:VEVENT
DTSTART;TZID=UTC:20180902T093000
DTEND;TZID=UTC:20180902T113000
DTSTAMP:20260426T033916
CREATED:20180711T155431Z
LAST-MODIFIED:20180711T155431Z
UID:3825-1535880600-1535887800@www.baptisten-winschoten.nl
SUMMARY:Avondmaalsdienst
DESCRIPTION:Avondmaalsdienst\, met br. H. Noordhuis \nTijdens de dienst viering van het avondmaal \nNa de dienst koffie drinken
URL:https://www.baptisten-winschoten.nl/item/avondmaalsdienst-36/
LOCATION:Kerkgebouw\, Azaleastraat 16A\, Winschoten\, Nederland
CATEGORIES:Diensten / Bijeenkomsten
END:VEVENT
BEGIN:VEVENT
DTSTART;TZID=UTC:20180909T093000
DTEND;TZID=UTC:20180909T110000
DTSTAMP:20260426T033916
CREATED:20180905T165533Z
LAST-MODIFIED:20180905T165533Z
UID:3887-1536485400-1536490800@www.baptisten-winschoten.nl
SUMMARY:Startzondag
DESCRIPTION:Startzondag \nDienst\, met br. de Raaf \nNa de dienst koffie drinken
URL:https://www.baptisten-winschoten.nl/item/startzondag/
LOCATION:Kerkgebouw\, Azaleastraat 16A\, Winschoten\, Nederland
CATEGORIES:Diensten / Bijeenkomsten
END:VEVENT
BEGIN:VEVENT
DTSTART;TZID=UTC:20180923T093000
DTEND;TZID=UTC:20180923T110000
DTSTAMP:20260426T033916
CREATED:20180923T081527Z
LAST-MODIFIED:20180923T081527Z
UID:3890-1537695000-1537700400@www.baptisten-winschoten.nl
SUMMARY:Dienst
DESCRIPTION:Dienst\, met br. Drenth \nNa de dienst koffie drinken.
URL:https://www.baptisten-winschoten.nl/item/dienst-125/
LOCATION:Kerkgebouw\, Azaleastraat 16A\, Winschoten\, Nederland
CATEGORIES:Diensten / Bijeenkomsten
END:VEVENT
BEGIN:VEVENT
DTSTART;TZID=UTC:20180930T083000
DTEND;TZID=UTC:20180930T110000
DTSTAMP:20260426T033916
CREATED:20180923T081609Z
LAST-MODIFIED:20180923T081609Z
UID:3892-1538296200-1538305200@www.baptisten-winschoten.nl
SUMMARY:Dienst
DESCRIPTION:Dienst\, met br. Schipper \nNa de dienst koffie drinken.
URL:https://www.baptisten-winschoten.nl/item/dienst-126/
CATEGORIES:Diensten / Bijeenkomsten
END:VEVENT
END:VCALENDAR