BEGIN:VCALENDAR
VERSION:2.0
PRODID:-//Baptisten Gemeente Winschoten - ECPv6.15.20//NONSGML v1.0//EN
CALSCALE:GREGORIAN
METHOD:PUBLISH
X-ORIGINAL-URL:https://www.baptisten-winschoten.nl
X-WR-CALDESC:Evenementen voor Baptisten Gemeente Winschoten
REFRESH-INTERVAL;VALUE=DURATION:PT1H
X-Robots-Tag:noindex
X-PUBLISHED-TTL:PT1H
BEGIN:VTIMEZONE
TZID:UTC
BEGIN:STANDARD
TZOFFSETFROM:+0000
TZOFFSETTO:+0000
TZNAME:UTC
DTSTART:20170101T000000
END:STANDARD
END:VTIMEZONE
BEGIN:VEVENT
DTSTART;TZID=UTC:20181007T093000
DTEND;TZID=UTC:20181007T110000
DTSTAMP:20260426T022441
CREATED:20181007T104810Z
LAST-MODIFIED:20181007T104810Z
UID:3917-1538904600-1538910000@www.baptisten-winschoten.nl
SUMMARY:Avondmaalsdienst
DESCRIPTION:Avondmaalsdienst\, met br. Hellinga \nTijdens de dienst zal het avondmaal worden gevierd \nNa de dienst koffie drinken
URL:https://www.baptisten-winschoten.nl/item/avondmaalsdienst-37/
LOCATION:Kerkgebouw\, Azaleastraat 16A\, Winschoten\, Nederland
CATEGORIES:Diensten / Bijeenkomsten
END:VEVENT
BEGIN:VEVENT
DTSTART;TZID=UTC:20181014T093000
DTEND;TZID=UTC:20181014T110000
DTSTAMP:20260426T022441
CREATED:20181007T104850Z
LAST-MODIFIED:20181007T104850Z
UID:3920-1539509400-1539514800@www.baptisten-winschoten.nl
SUMMARY:Dienst
DESCRIPTION:Dienst\, met br. W. Greven \nNa de dienst koffie drinken
URL:https://www.baptisten-winschoten.nl/item/dienst-127/
LOCATION:Kerkgebouw\, Azaleastraat 16A\, Winschoten\, Nederland
CATEGORIES:Diensten / Bijeenkomsten
END:VEVENT
BEGIN:VEVENT
DTSTART;TZID=UTC:20181021T093000
DTEND;TZID=UTC:20181021T110000
DTSTAMP:20260426T022441
CREATED:20181007T105037Z
LAST-MODIFIED:20181007T105037Z
UID:3924-1540114200-1540119600@www.baptisten-winschoten.nl
SUMMARY:Dienst
DESCRIPTION:Dienst\, met br. Sikkema (bijbelzondag) \nNa de dienst koffie drinken
URL:https://www.baptisten-winschoten.nl/item/dienst-128/
LOCATION:Kerkgebouw\, Azaleastraat 16A\, Winschoten\, Nederland
CATEGORIES:Diensten / Bijeenkomsten
END:VEVENT
BEGIN:VEVENT
DTSTART;TZID=UTC:20181028T093000
DTEND;TZID=UTC:20181028T110000
DTSTAMP:20260426T022441
CREATED:20181007T105134Z
LAST-MODIFIED:20181007T105134Z
UID:3926-1540719000-1540724400@www.baptisten-winschoten.nl
SUMMARY:Dienst
DESCRIPTION:Dienst\, met br. Pflaum \nNa de dienst koffie drinken
URL:https://www.baptisten-winschoten.nl/item/dienst-129/
LOCATION:Kerkgebouw\, Azaleastraat 16A\, Winschoten\, Nederland
CATEGORIES:Diensten / Bijeenkomsten
END:VEVENT
END:VCALENDAR