BEGIN:VCALENDAR
VERSION:2.0
PRODID:-//Baptisten Gemeente Winschoten - ECPv6.15.20//NONSGML v1.0//EN
CALSCALE:GREGORIAN
METHOD:PUBLISH
X-WR-CALNAME:Baptisten Gemeente Winschoten
X-ORIGINAL-URL:https://www.baptisten-winschoten.nl
X-WR-CALDESC:Evenementen voor Baptisten Gemeente Winschoten
REFRESH-INTERVAL;VALUE=DURATION:PT1H
X-Robots-Tag:noindex
X-PUBLISHED-TTL:PT1H
BEGIN:VTIMEZONE
TZID:UTC
BEGIN:STANDARD
TZOFFSETFROM:+0000
TZOFFSETTO:+0000
TZNAME:UTC
DTSTART:20170101T000000
END:STANDARD
END:VTIMEZONE
BEGIN:VEVENT
DTSTART;TZID=UTC:20181104T093000
DTEND;TZID=UTC:20181104T110000
DTSTAMP:20260426T010305
CREATED:20181007T105542Z
LAST-MODIFIED:20181007T105542Z
UID:3932-1541323800-1541329200@www.baptisten-winschoten.nl
SUMMARY:Dienst
DESCRIPTION:Dienst\, met br. H. de Raaf \nNa de dienst koffie drinken
URL:https://www.baptisten-winschoten.nl/item/dienst-130/
LOCATION:Kerkgebouw\, Azaleastraat 16A\, Winschoten\, Nederland
CATEGORIES:Diensten / Bijeenkomsten
END:VEVENT
BEGIN:VEVENT
DTSTART;TZID=UTC:20181111T093000
DTEND;TZID=UTC:20181111T110000
DTSTAMP:20260426T010305
CREATED:20181116T162701Z
LAST-MODIFIED:20181116T162701Z
UID:3957-1541928600-1541934000@www.baptisten-winschoten.nl
SUMMARY:Dienst
DESCRIPTION:Dienst\, met br. Hofman\nNa de dienst koffie drinken
URL:https://www.baptisten-winschoten.nl/item/dienst-131/
LOCATION:Kerkgebouw\, Azaleastraat 16A\, Winschoten\, Nederland
CATEGORIES:Diensten / Bijeenkomsten
END:VEVENT
BEGIN:VEVENT
DTSTART;TZID=UTC:20181118T093000
DTEND;TZID=UTC:20181118T110000
DTSTAMP:20260426T010305
CREATED:20181116T162740Z
LAST-MODIFIED:20181116T162740Z
UID:3959-1542533400-1542538800@www.baptisten-winschoten.nl
SUMMARY:Dienst
DESCRIPTION:Dienst\, met br. Tolsma\nNa de dienst koffie drinken
URL:https://www.baptisten-winschoten.nl/item/dienst-132/
LOCATION:Kerkgebouw\, Azaleastraat 16A\, Winschoten\, Nederland
CATEGORIES:Diensten / Bijeenkomsten
END:VEVENT
BEGIN:VEVENT
DTSTART;TZID=UTC:20181125T093000
DTEND;TZID=UTC:20181125T110000
DTSTAMP:20260426T010305
CREATED:20181116T162822Z
LAST-MODIFIED:20181116T162822Z
UID:3961-1543138200-1543143600@www.baptisten-winschoten.nl
SUMMARY:Dienst
DESCRIPTION:Dienst\, met br. Drenth\nNa de dienst koffie drinken
URL:https://www.baptisten-winschoten.nl/item/dienst-133/
LOCATION:Kerkgebouw\, Azaleastraat 16A\, Winschoten\, Nederland
CATEGORIES:Diensten / Bijeenkomsten
END:VEVENT
END:VCALENDAR