BEGIN:VCALENDAR
VERSION:2.0
PRODID:-//Baptisten Gemeente Winschoten - ECPv6.15.20//NONSGML v1.0//EN
CALSCALE:GREGORIAN
METHOD:PUBLISH
X-WR-CALNAME:Baptisten Gemeente Winschoten
X-ORIGINAL-URL:https://www.baptisten-winschoten.nl
X-WR-CALDESC:Evenementen voor Baptisten Gemeente Winschoten
REFRESH-INTERVAL;VALUE=DURATION:PT1H
X-Robots-Tag:noindex
X-PUBLISHED-TTL:PT1H
BEGIN:VTIMEZONE
TZID:UTC
BEGIN:STANDARD
TZOFFSETFROM:+0000
TZOFFSETTO:+0000
TZNAME:UTC
DTSTART:20180101T000000
END:STANDARD
END:VTIMEZONE
BEGIN:VEVENT
DTSTART;TZID=UTC:20190113T093000
DTEND;TZID=UTC:20190113T110000
DTSTAMP:20260425T220744
CREATED:20190114T171537Z
LAST-MODIFIED:20190114T171537Z
UID:4055-1547371800-1547377200@www.baptisten-winschoten.nl
SUMMARY:Dienst
DESCRIPTION:Dienst\, met br. Kruizinga \nNa de dienst koffie drinken
URL:https://www.baptisten-winschoten.nl/item/dienst-134/
LOCATION:Kerkgebouw\, Azaleastraat 16A\, Winschoten\, Nederland
CATEGORIES:Diensten / Bijeenkomsten
END:VEVENT
BEGIN:VEVENT
DTSTART;TZID=UTC:20190120T093000
DTEND;TZID=UTC:20190120T110000
DTSTAMP:20260425T220744
CREATED:20190114T171727Z
LAST-MODIFIED:20190114T171727Z
UID:4061-1547976600-1547982000@www.baptisten-winschoten.nl
SUMMARY:Dienst
DESCRIPTION:Dienst\, met br. Kroes \nNa de dienst koffie drinken
URL:https://www.baptisten-winschoten.nl/item/dienst-135/
LOCATION:Kerkgebouw\, Azaleastraat 16A\, Winschoten\, Nederland
CATEGORIES:Diensten / Bijeenkomsten
END:VEVENT
BEGIN:VEVENT
DTSTART;TZID=UTC:20190127T093000
DTEND;TZID=UTC:20190127T110000
DTSTAMP:20260425T220744
CREATED:20190114T171844Z
LAST-MODIFIED:20190114T171844Z
UID:4063-1548581400-1548586800@www.baptisten-winschoten.nl
SUMMARY:Dienst
DESCRIPTION:Dienst\, met br. Drenth \nNa de dienst koffie drinken
URL:https://www.baptisten-winschoten.nl/item/dienst-136/
LOCATION:Kerkgebouw\, Azaleastraat 16A\, Winschoten\, Nederland
CATEGORIES:Diensten / Bijeenkomsten
END:VEVENT
END:VCALENDAR