BEGIN:VCALENDAR
VERSION:2.0
PRODID:-//Baptisten Gemeente Winschoten - ECPv6.15.20//NONSGML v1.0//EN
CALSCALE:GREGORIAN
METHOD:PUBLISH
X-ORIGINAL-URL:https://www.baptisten-winschoten.nl
X-WR-CALDESC:Evenementen voor Baptisten Gemeente Winschoten
REFRESH-INTERVAL;VALUE=DURATION:PT1H
X-Robots-Tag:noindex
X-PUBLISHED-TTL:PT1H
BEGIN:VTIMEZONE
TZID:UTC
BEGIN:STANDARD
TZOFFSETFROM:+0000
TZOFFSETTO:+0000
TZNAME:UTC
DTSTART:20180101T000000
END:STANDARD
END:VTIMEZONE
BEGIN:VEVENT
DTSTART;TZID=UTC:20190203T093000
DTEND;TZID=UTC:20190203T113000
DTSTAMP:20260425T204813
CREATED:20190114T172106Z
LAST-MODIFIED:20190114T172106Z
UID:4068-1549186200-1549193400@www.baptisten-winschoten.nl
SUMMARY:Avondmaalsdienst
DESCRIPTION:Avondmaalsdienst\, met br. Bisschop \nTijdens de dienst zal het avondmaal gevierd worden \nNa de dienst koffie drinken \n 
URL:https://www.baptisten-winschoten.nl/item/avondmaalsdienst-38/
LOCATION:Kerkgebouw\, Azaleastraat 16A\, Winschoten\, Nederland
CATEGORIES:Diensten / Bijeenkomsten
END:VEVENT
BEGIN:VEVENT
DTSTART;TZID=UTC:20190210T093000
DTEND;TZID=UTC:20190210T110000
DTSTAMP:20260425T204813
CREATED:20190219T151550Z
LAST-MODIFIED:20190219T151550Z
UID:4079-1549791000-1549796400@www.baptisten-winschoten.nl
SUMMARY:Dienst
DESCRIPTION:Dienst\, met br. Hofman \nNa de dienst koffie drinken
URL:https://www.baptisten-winschoten.nl/item/dienst-137/
LOCATION:Kerkgebouw\, Azaleastraat 16A\, Winschoten\, Nederland
CATEGORIES:Diensten / Bijeenkomsten
END:VEVENT
BEGIN:VEVENT
DTSTART;TZID=UTC:20190217T093000
DTEND;TZID=UTC:20190217T110000
DTSTAMP:20260425T204813
CREATED:20190219T152057Z
LAST-MODIFIED:20190219T152057Z
UID:4084-1550395800-1550401200@www.baptisten-winschoten.nl
SUMMARY:Dienst
DESCRIPTION:Dienst\, met br. Kroes \nNa de dienst koffie drinken
URL:https://www.baptisten-winschoten.nl/item/dienst-138/
LOCATION:Kerkgebouw\, Azaleastraat 16A\, Winschoten\, Nederland
CATEGORIES:Diensten / Bijeenkomsten
END:VEVENT
END:VCALENDAR