BEGIN:VCALENDAR
VERSION:2.0
PRODID:-//Baptisten Gemeente Winschoten - ECPv6.15.20//NONSGML v1.0//EN
CALSCALE:GREGORIAN
METHOD:PUBLISH
X-WR-CALNAME:Baptisten Gemeente Winschoten
X-ORIGINAL-URL:https://www.baptisten-winschoten.nl
X-WR-CALDESC:Evenementen voor Baptisten Gemeente Winschoten
REFRESH-INTERVAL;VALUE=DURATION:PT1H
X-Robots-Tag:noindex
X-PUBLISHED-TTL:PT1H
BEGIN:VTIMEZONE
TZID:UTC
BEGIN:STANDARD
TZOFFSETFROM:+0000
TZOFFSETTO:+0000
TZNAME:UTC
DTSTART:20180101T000000
END:STANDARD
END:VTIMEZONE
BEGIN:VEVENT
DTSTART;TZID=UTC:20190310T093000
DTEND;TZID=UTC:20190310T110000
DTSTAMP:20260425T192112
CREATED:20190313T154043Z
LAST-MODIFIED:20190313T154043Z
UID:4092-1552210200-1552215600@www.baptisten-winschoten.nl
SUMMARY:Kinderdienst
DESCRIPTION:Kinderdienst\, spreker: geheime gast
URL:https://www.baptisten-winschoten.nl/item/kinderdienst/
LOCATION:Kerkgebouw\, Azaleastraat 16A\, Winschoten\, Nederland
CATEGORIES:Diensten / Bijeenkomsten
END:VEVENT
BEGIN:VEVENT
DTSTART;TZID=UTC:20190317T093000
DTEND;TZID=UTC:20190317T110000
DTSTAMP:20260425T192112
CREATED:20190313T154132Z
LAST-MODIFIED:20190313T154132Z
UID:4094-1552815000-1552820400@www.baptisten-winschoten.nl
SUMMARY:Dienst
DESCRIPTION:Dienst\, met br. W. Greven \nNa de dienst koffie drinken
URL:https://www.baptisten-winschoten.nl/item/dienst-139/
LOCATION:Kerkgebouw\, Azaleastraat 16A\, Winschoten\, Nederland
CATEGORIES:Diensten / Bijeenkomsten
END:VEVENT
BEGIN:VEVENT
DTSTART;TZID=UTC:20190324T093000
DTEND;TZID=UTC:20190324T110000
DTSTAMP:20260425T192112
CREATED:20190313T154215Z
LAST-MODIFIED:20190313T154215Z
UID:4096-1553419800-1553425200@www.baptisten-winschoten.nl
SUMMARY:Dienst
DESCRIPTION:Dienst met br. J. Kruizenga \nNa de dienst koffie drinken
URL:https://www.baptisten-winschoten.nl/item/dienst-140/
LOCATION:Kerkgebouw\, Azaleastraat 16A\, Winschoten\, Nederland
CATEGORIES:Diensten / Bijeenkomsten
END:VEVENT
BEGIN:VEVENT
DTSTART;TZID=UTC:20190331T093000
DTEND;TZID=UTC:20190331T110000
DTSTAMP:20260425T192112
CREATED:20190313T154329Z
LAST-MODIFIED:20190313T154329Z
UID:4100-1554024600-1554030000@www.baptisten-winschoten.nl
SUMMARY:Dienst
DESCRIPTION:Dienst\, met br. J. Hofman \nNa de dienst koffie drinken
URL:https://www.baptisten-winschoten.nl/item/dienst-141/
LOCATION:Kerkgebouw\, Azaleastraat 16A\, Winschoten\, Nederland
CATEGORIES:Diensten / Bijeenkomsten
END:VEVENT
END:VCALENDAR