BEGIN:VCALENDAR
VERSION:2.0
PRODID:-//Baptisten Gemeente Winschoten - ECPv6.15.20//NONSGML v1.0//EN
CALSCALE:GREGORIAN
METHOD:PUBLISH
X-ORIGINAL-URL:https://www.baptisten-winschoten.nl
X-WR-CALDESC:Evenementen voor Baptisten Gemeente Winschoten
REFRESH-INTERVAL;VALUE=DURATION:PT1H
X-Robots-Tag:noindex
X-PUBLISHED-TTL:PT1H
BEGIN:VTIMEZONE
TZID:UTC
BEGIN:STANDARD
TZOFFSETFROM:+0000
TZOFFSETTO:+0000
TZNAME:UTC
DTSTART:20190101T000000
END:STANDARD
END:VTIMEZONE
BEGIN:VEVENT
DTSTART;TZID=UTC:20200223T093000
DTEND;TZID=UTC:20200223T110000
DTSTAMP:20260425T040145
CREATED:20200224T163547Z
LAST-MODIFIED:20200224T163547Z
UID:4747-1582450200-1582455600@www.baptisten-winschoten.nl
SUMMARY:Dienst
DESCRIPTION:Dienst\, met ds. Hellinga \nNa de dienst koffie drinken
URL:https://www.baptisten-winschoten.nl/item/dienst-166/
LOCATION:Kerkgebouw\, Azaleastraat 16A\, Winschoten\, Nederland
CATEGORIES:Diensten / Bijeenkomsten
END:VEVENT
END:VCALENDAR