BEGIN:VCALENDAR
VERSION:2.0
PRODID:-//Baptisten Gemeente Winschoten - ECPv6.15.20//NONSGML v1.0//EN
CALSCALE:GREGORIAN
METHOD:PUBLISH
X-WR-CALNAME:Baptisten Gemeente Winschoten
X-ORIGINAL-URL:https://www.baptisten-winschoten.nl
X-WR-CALDESC:Evenementen voor Baptisten Gemeente Winschoten
REFRESH-INTERVAL;VALUE=DURATION:PT1H
X-Robots-Tag:noindex
X-PUBLISHED-TTL:PT1H
BEGIN:VTIMEZONE
TZID:Europe/Helsinki
BEGIN:DAYLIGHT
TZOFFSETFROM:+0200
TZOFFSETTO:+0300
TZNAME:EEST
DTSTART:20210328T010000
END:DAYLIGHT
BEGIN:STANDARD
TZOFFSETFROM:+0300
TZOFFSETTO:+0200
TZNAME:EET
DTSTART:20211031T010000
END:STANDARD
BEGIN:DAYLIGHT
TZOFFSETFROM:+0200
TZOFFSETTO:+0300
TZNAME:EEST
DTSTART:20220327T010000
END:DAYLIGHT
BEGIN:STANDARD
TZOFFSETFROM:+0300
TZOFFSETTO:+0200
TZNAME:EET
DTSTART:20221030T010000
END:STANDARD
BEGIN:DAYLIGHT
TZOFFSETFROM:+0200
TZOFFSETTO:+0300
TZNAME:EEST
DTSTART:20230326T010000
END:DAYLIGHT
BEGIN:STANDARD
TZOFFSETFROM:+0300
TZOFFSETTO:+0200
TZNAME:EET
DTSTART:20231029T010000
END:STANDARD
END:VTIMEZONE
BEGIN:VEVENT
DTSTART;TZID=Europe/Helsinki:20220206T093000
DTEND;TZID=Europe/Helsinki:20220206T110000
DTSTAMP:20260423T165237
CREATED:20220127T154751Z
LAST-MODIFIED:20220127T155105Z
UID:5511-1644139800-1644145200@www.baptisten-winschoten.nl
SUMMARY:Avondmaalsdienst
DESCRIPTION:Avondmaalsdienst \nTijdens de dienst viering van het avondmaal \nAanmelden voor fysieke diensten kan via kerktijd.\nKijk hier voor meer informatie
URL:https://www.baptisten-winschoten.nl/item/avondmaalsdienst-50/
LOCATION:Kerkgebouw\, Azaleastraat 16A\, Winschoten\, Nederland
CATEGORIES:Diensten / Bijeenkomsten
END:VEVENT
BEGIN:VEVENT
DTSTART;TZID=Europe/Helsinki:20220213T080000
DTEND;TZID=Europe/Helsinki:20220213T170000
DTSTAMP:20260423T165237
CREATED:20220127T154808Z
LAST-MODIFIED:20220127T154808Z
UID:5513-1644739200-1644771600@www.baptisten-winschoten.nl
SUMMARY:Dienst
DESCRIPTION:
URL:https://www.baptisten-winschoten.nl/item/dienst-178/
LOCATION:Kerkgebouw\, Azaleastraat 16A\, Winschoten\, Nederland
CATEGORIES:Diensten / Bijeenkomsten
END:VEVENT
BEGIN:VEVENT
DTSTART;TZID=Europe/Helsinki:20220220T093000
DTEND;TZID=Europe/Helsinki:20220220T110000
DTSTAMP:20260423T165237
CREATED:20220226T092210Z
LAST-MODIFIED:20220226T092210Z
UID:5563-1645349400-1645354800@www.baptisten-winschoten.nl
SUMMARY:Dienst
DESCRIPTION:Dienst\, met ds. Hellinga
URL:https://www.baptisten-winschoten.nl/item/dienst-177/
LOCATION:Kerkgebouw\, Azaleastraat 16A\, Winschoten\, Nederland
CATEGORIES:Diensten / Bijeenkomsten
END:VEVENT
BEGIN:VEVENT
DTSTART;TZID=Europe/Helsinki:20220227T093000
DTEND;TZID=Europe/Helsinki:20220227T110000
DTSTAMP:20260423T165237
CREATED:20220226T091630Z
LAST-MODIFIED:20220226T091742Z
UID:5553-1645954200-1645959600@www.baptisten-winschoten.nl
SUMMARY:Dienst
DESCRIPTION:Dienst\, met ds. Hellinga
URL:https://www.baptisten-winschoten.nl/item/dienst-176/
LOCATION:Kerkgebouw\, Azaleastraat 16A\, Winschoten\, Nederland
CATEGORIES:Diensten / Bijeenkomsten
END:VEVENT
END:VCALENDAR