BEGIN:VCALENDAR
VERSION:2.0
PRODID:-//Baptisten Gemeente Winschoten - ECPv6.15.20//NONSGML v1.0//EN
CALSCALE:GREGORIAN
METHOD:PUBLISH
X-WR-CALNAME:Baptisten Gemeente Winschoten
X-ORIGINAL-URL:https://www.baptisten-winschoten.nl
X-WR-CALDESC:Evenementen voor Baptisten Gemeente Winschoten
REFRESH-INTERVAL;VALUE=DURATION:PT1H
X-Robots-Tag:noindex
X-PUBLISHED-TTL:PT1H
BEGIN:VTIMEZONE
TZID:Europe/Helsinki
BEGIN:DAYLIGHT
TZOFFSETFROM:+0200
TZOFFSETTO:+0300
TZNAME:EEST
DTSTART:20210328T010000
END:DAYLIGHT
BEGIN:STANDARD
TZOFFSETFROM:+0300
TZOFFSETTO:+0200
TZNAME:EET
DTSTART:20211031T010000
END:STANDARD
BEGIN:DAYLIGHT
TZOFFSETFROM:+0200
TZOFFSETTO:+0300
TZNAME:EEST
DTSTART:20220327T010000
END:DAYLIGHT
BEGIN:STANDARD
TZOFFSETFROM:+0300
TZOFFSETTO:+0200
TZNAME:EET
DTSTART:20221030T010000
END:STANDARD
BEGIN:DAYLIGHT
TZOFFSETFROM:+0200
TZOFFSETTO:+0300
TZNAME:EEST
DTSTART:20230326T010000
END:DAYLIGHT
BEGIN:STANDARD
TZOFFSETFROM:+0300
TZOFFSETTO:+0200
TZNAME:EET
DTSTART:20231029T010000
END:STANDARD
END:VTIMEZONE
BEGIN:VEVENT
DTSTART;TZID=Europe/Helsinki:20220501T093000
DTEND;TZID=Europe/Helsinki:20220501T110000
DTSTAMP:20260423T122309
CREATED:20220521T122831Z
LAST-MODIFIED:20220521T122831Z
UID:5614-1651397400-1651402800@www.baptisten-winschoten.nl
SUMMARY:Avondmaalsdienst
DESCRIPTION:Avondmaalsdienst\, tijdens de dienst zal het avondmaal gevierd worden
URL:https://www.baptisten-winschoten.nl/item/avondmaalsdienst-54/
LOCATION:Kerkgebouw\, Azaleastraat 16A\, Winschoten\, Nederland
CATEGORIES:Diensten / Bijeenkomsten
END:VEVENT
BEGIN:VEVENT
DTSTART;TZID=Europe/Helsinki:20220508T093000
DTEND;TZID=Europe/Helsinki:20220508T110000
DTSTAMP:20260423T122309
CREATED:20220521T122359Z
LAST-MODIFIED:20220521T122359Z
UID:5600-1652002200-1652007600@www.baptisten-winschoten.nl
SUMMARY:Dienst
DESCRIPTION:Dienst\, met ds. Hellinga
URL:https://www.baptisten-winschoten.nl/item/dienst-183/
LOCATION:Kerkgebouw\, Azaleastraat 16A\, Winschoten\, Nederland
CATEGORIES:Diensten / Bijeenkomsten
END:VEVENT
BEGIN:VEVENT
DTSTART;TZID=Europe/Helsinki:20220515T093000
DTEND;TZID=Europe/Helsinki:20220515T110000
DTSTAMP:20260423T122309
CREATED:20220521T122504Z
LAST-MODIFIED:20220521T122504Z
UID:5604-1652607000-1652612400@www.baptisten-winschoten.nl
SUMMARY:Dienst
DESCRIPTION:Dienst\, met ds. Hellinga
URL:https://www.baptisten-winschoten.nl/item/dienst-184/
LOCATION:Kerkgebouw\, Azaleastraat 16A\, Winschoten\, Nederland
CATEGORIES:Diensten / Bijeenkomsten
END:VEVENT
BEGIN:VEVENT
DTSTART;TZID=Europe/Helsinki:20220522T093000
DTEND;TZID=Europe/Helsinki:20220522T110000
DTSTAMP:20260423T122309
CREATED:20220521T122528Z
LAST-MODIFIED:20220521T122551Z
UID:5606-1653211800-1653217200@www.baptisten-winschoten.nl
SUMMARY:Dienst
DESCRIPTION:Dienst\, met br. Elzen
URL:https://www.baptisten-winschoten.nl/item/dienst-185/
LOCATION:Kerkgebouw\, Azaleastraat 16A\, Winschoten\, Nederland
CATEGORIES:Diensten / Bijeenkomsten
END:VEVENT
BEGIN:VEVENT
DTSTART;TZID=Europe/Helsinki:20220529T093000
DTEND;TZID=Europe/Helsinki:20220529T110000
DTSTAMP:20260423T122309
CREATED:20220521T122624Z
LAST-MODIFIED:20220521T122624Z
UID:5610-1653816600-1653822000@www.baptisten-winschoten.nl
SUMMARY:Dienst
DESCRIPTION:Dienst\, met ds. Hellinga
URL:https://www.baptisten-winschoten.nl/item/dienst-186/
LOCATION:Kerkgebouw\, Azaleastraat 16A\, Winschoten\, Nederland
CATEGORIES:Diensten / Bijeenkomsten
END:VEVENT
END:VCALENDAR