BEGIN:VCALENDAR
VERSION:2.0
PRODID:-//Baptisten Gemeente Winschoten - ECPv6.15.20//NONSGML v1.0//EN
CALSCALE:GREGORIAN
METHOD:PUBLISH
X-WR-CALNAME:Baptisten Gemeente Winschoten
X-ORIGINAL-URL:https://www.baptisten-winschoten.nl
X-WR-CALDESC:Evenementen voor Baptisten Gemeente Winschoten
REFRESH-INTERVAL;VALUE=DURATION:PT1H
X-Robots-Tag:noindex
X-PUBLISHED-TTL:PT1H
BEGIN:VTIMEZONE
TZID:Europe/Helsinki
BEGIN:DAYLIGHT
TZOFFSETFROM:+0200
TZOFFSETTO:+0300
TZNAME:EEST
DTSTART:20210328T010000
END:DAYLIGHT
BEGIN:STANDARD
TZOFFSETFROM:+0300
TZOFFSETTO:+0200
TZNAME:EET
DTSTART:20211031T010000
END:STANDARD
BEGIN:DAYLIGHT
TZOFFSETFROM:+0200
TZOFFSETTO:+0300
TZNAME:EEST
DTSTART:20220327T010000
END:DAYLIGHT
BEGIN:STANDARD
TZOFFSETFROM:+0300
TZOFFSETTO:+0200
TZNAME:EET
DTSTART:20221030T010000
END:STANDARD
BEGIN:DAYLIGHT
TZOFFSETFROM:+0200
TZOFFSETTO:+0300
TZNAME:EEST
DTSTART:20230326T010000
END:DAYLIGHT
BEGIN:STANDARD
TZOFFSETFROM:+0300
TZOFFSETTO:+0200
TZNAME:EET
DTSTART:20231029T010000
END:STANDARD
END:VTIMEZONE
BEGIN:VEVENT
DTSTART;TZID=Europe/Helsinki:20220904T093000
DTEND;TZID=Europe/Helsinki:20220904T110000
DTSTAMP:20260423T060230
CREATED:20220817T093048Z
LAST-MODIFIED:20220817T093048Z
UID:5659-1662283800-1662289200@www.baptisten-winschoten.nl
SUMMARY:Avondmaalsdienst
DESCRIPTION:Avondmaalsdienst\, met ds. Hellinga \nTijdens de dienst zal het avondmaal gevierd worden
URL:https://www.baptisten-winschoten.nl/item/avondmaalsdienst-56/
LOCATION:Kerkgebouw\, Azaleastraat 16A\, Winschoten\, Nederland
CATEGORIES:Diensten / Bijeenkomsten
END:VEVENT
BEGIN:VEVENT
DTSTART;TZID=Europe/Helsinki:20220911T093000
DTEND;TZID=Europe/Helsinki:20220911T110000
DTSTAMP:20260423T060230
CREATED:20220817T093258Z
LAST-MODIFIED:20220817T093258Z
UID:5661-1662888600-1662894000@www.baptisten-winschoten.nl
SUMMARY:Dienst
DESCRIPTION:Dienst\, met br. Hofman
URL:https://www.baptisten-winschoten.nl/item/dienst-192/
LOCATION:Kerkgebouw\, Azaleastraat 16A\, Winschoten\, Nederland
CATEGORIES:Diensten / Bijeenkomsten
END:VEVENT
BEGIN:VEVENT
DTSTART;TZID=Europe/Helsinki:20220918T090000
DTEND;TZID=Europe/Helsinki:20220918T110000
DTSTAMP:20260423T060230
CREATED:20220817T093329Z
LAST-MODIFIED:20220817T093329Z
UID:5663-1663491600-1663498800@www.baptisten-winschoten.nl
SUMMARY:Dienst
DESCRIPTION:Dienst\, met br. Kroes
URL:https://www.baptisten-winschoten.nl/item/dienst-193/
LOCATION:Kerkgebouw\, Azaleastraat 16A\, Winschoten\, Nederland
CATEGORIES:Diensten / Bijeenkomsten
END:VEVENT
BEGIN:VEVENT
DTSTART;TZID=Europe/Helsinki:20220925T093000
DTEND;TZID=Europe/Helsinki:20220925T110000
DTSTAMP:20260423T060230
CREATED:20220817T093356Z
LAST-MODIFIED:20220817T093356Z
UID:5665-1664098200-1664103600@www.baptisten-winschoten.nl
SUMMARY:Dienst
DESCRIPTION:Dienst\, met br. de Raaf
URL:https://www.baptisten-winschoten.nl/item/dienst-194/
LOCATION:Kerkgebouw\, Azaleastraat 16A\, Winschoten\, Nederland
CATEGORIES:Diensten / Bijeenkomsten
END:VEVENT
END:VCALENDAR