BEGIN:VCALENDAR
VERSION:2.0
PRODID:-//Baptisten Gemeente Winschoten - ECPv6.15.20//NONSGML v1.0//EN
CALSCALE:GREGORIAN
METHOD:PUBLISH
X-ORIGINAL-URL:https://www.baptisten-winschoten.nl
X-WR-CALDESC:Evenementen voor Baptisten Gemeente Winschoten
REFRESH-INTERVAL;VALUE=DURATION:PT1H
X-Robots-Tag:noindex
X-PUBLISHED-TTL:PT1H
BEGIN:VTIMEZONE
TZID:Europe/Helsinki
BEGIN:DAYLIGHT
TZOFFSETFROM:+0200
TZOFFSETTO:+0300
TZNAME:EEST
DTSTART:20210328T010000
END:DAYLIGHT
BEGIN:STANDARD
TZOFFSETFROM:+0300
TZOFFSETTO:+0200
TZNAME:EET
DTSTART:20211031T010000
END:STANDARD
BEGIN:DAYLIGHT
TZOFFSETFROM:+0200
TZOFFSETTO:+0300
TZNAME:EEST
DTSTART:20220327T010000
END:DAYLIGHT
BEGIN:STANDARD
TZOFFSETFROM:+0300
TZOFFSETTO:+0200
TZNAME:EET
DTSTART:20221030T010000
END:STANDARD
BEGIN:DAYLIGHT
TZOFFSETFROM:+0200
TZOFFSETTO:+0300
TZNAME:EEST
DTSTART:20230326T010000
END:DAYLIGHT
BEGIN:STANDARD
TZOFFSETFROM:+0300
TZOFFSETTO:+0200
TZNAME:EET
DTSTART:20231029T010000
END:STANDARD
END:VTIMEZONE
BEGIN:VEVENT
DTSTART;TZID=Europe/Helsinki:20221002T093000
DTEND;TZID=Europe/Helsinki:20221002T110000
DTSTAMP:20260423T042734
CREATED:20220817T093435Z
LAST-MODIFIED:20220817T093435Z
UID:5667-1664703000-1664708400@www.baptisten-winschoten.nl
SUMMARY:Avondmaalsdienst
DESCRIPTION:Avondmaalsdienst\, met ds. Hellinga \nTijdens de dienst zal het avondmaal gevierd worden
URL:https://www.baptisten-winschoten.nl/item/avondmaalsdienst-57/
LOCATION:Kerkgebouw\, Azaleastraat 16A\, Winschoten\, Nederland
CATEGORIES:Diensten / Bijeenkomsten
END:VEVENT
BEGIN:VEVENT
DTSTART;TZID=Europe/Helsinki:20221009T093000
DTEND;TZID=Europe/Helsinki:20221009T110000
DTSTAMP:20260423T042734
CREATED:20220817T093529Z
LAST-MODIFIED:20220817T093529Z
UID:5669-1665307800-1665313200@www.baptisten-winschoten.nl
SUMMARY:Dienst
DESCRIPTION:Dienst\, met ds. Hellinga
URL:https://www.baptisten-winschoten.nl/item/dienst-195/
LOCATION:Kerkgebouw\, Azaleastraat 16A\, Winschoten\, Nederland
CATEGORIES:Diensten / Bijeenkomsten
END:VEVENT
BEGIN:VEVENT
DTSTART;TZID=Europe/Helsinki:20221016T093000
DTEND;TZID=Europe/Helsinki:20221016T110000
DTSTAMP:20260423T042734
CREATED:20220817T093556Z
LAST-MODIFIED:20220817T093556Z
UID:5671-1665912600-1665918000@www.baptisten-winschoten.nl
SUMMARY:Dienst
DESCRIPTION:Dienst\, met ds. Hellinga
URL:https://www.baptisten-winschoten.nl/item/dienst-196/
LOCATION:Kerkgebouw\, Azaleastraat 16A\, Winschoten\, Nederland
CATEGORIES:Diensten / Bijeenkomsten
END:VEVENT
BEGIN:VEVENT
DTSTART;TZID=Europe/Helsinki:20221023T093000
DTEND;TZID=Europe/Helsinki:20221023T110000
DTSTAMP:20260423T042734
CREATED:20220817T093631Z
LAST-MODIFIED:20220817T093631Z
UID:5673-1666517400-1666522800@www.baptisten-winschoten.nl
SUMMARY:Dienst
DESCRIPTION:Dienst\, met ds. A. de Vries
URL:https://www.baptisten-winschoten.nl/item/dienst-197/
LOCATION:Kerkgebouw\, Azaleastraat 16A\, Winschoten\, Nederland
CATEGORIES:Diensten / Bijeenkomsten
END:VEVENT
BEGIN:VEVENT
DTSTART;TZID=Europe/Helsinki:20221030T093000
DTEND;TZID=Europe/Helsinki:20221030T110000
DTSTAMP:20260423T042734
CREATED:20220817T093754Z
LAST-MODIFIED:20220817T093754Z
UID:5675-1667122200-1667127600@www.baptisten-winschoten.nl
SUMMARY:Dienst
DESCRIPTION:Dienst\, met ds. Hellinga
URL:https://www.baptisten-winschoten.nl/item/dienst-198/
LOCATION:Kerkgebouw\, Azaleastraat 16A\, Winschoten\, Nederland
CATEGORIES:Diensten / Bijeenkomsten
END:VEVENT
END:VCALENDAR