BEGIN:VCALENDAR
VERSION:2.0
PRODID:-//Baptisten Gemeente Winschoten - ECPv6.15.20//NONSGML v1.0//EN
CALSCALE:GREGORIAN
METHOD:PUBLISH
X-WR-CALNAME:Baptisten Gemeente Winschoten
X-ORIGINAL-URL:https://www.baptisten-winschoten.nl
X-WR-CALDESC:Evenementen voor Baptisten Gemeente Winschoten
REFRESH-INTERVAL;VALUE=DURATION:PT1H
X-Robots-Tag:noindex
X-PUBLISHED-TTL:PT1H
BEGIN:VTIMEZONE
TZID:UTC
BEGIN:STANDARD
TZOFFSETFROM:+0000
TZOFFSETTO:+0000
TZNAME:UTC
DTSTART:20180101T000000
END:STANDARD
END:VTIMEZONE
BEGIN:VEVENT
DTSTART;TZID=UTC:20190407T093000
DTEND;TZID=UTC:20190407T113000
DTSTAMP:20260425T192259
CREATED:20190313T154439Z
LAST-MODIFIED:20190313T154600Z
UID:4103-1554629400-1554636600@www.baptisten-winschoten.nl
SUMMARY:Avondmaalsdienst
DESCRIPTION:Avondmaalsdienst\, met br. D. Smink \nTijdens de dienst viering van het avondmaal \nNa de dienst koffie drinken
URL:https://www.baptisten-winschoten.nl/item/avondmaalsdienst-39/
LOCATION:Kerkgebouw\, Azaleastraat 16A\, Winschoten\, Nederland
CATEGORIES:Diensten / Bijeenkomsten
END:VEVENT
BEGIN:VEVENT
DTSTART;TZID=UTC:20190407T143000
DTEND;TZID=UTC:20190407T160000
DTSTAMP:20260425T192259
CREATED:20190313T154538Z
LAST-MODIFIED:20190313T154538Z
UID:4105-1554647400-1554652800@www.baptisten-winschoten.nl
SUMMARY:Intrede-dienst br. L. Hellinga
DESCRIPTION:Intrede-dienst van br. L. Hellinga
URL:https://www.baptisten-winschoten.nl/item/intrede-dienst-br-l-hellinga/
LOCATION:Kerkgebouw\, Azaleastraat 16A\, Winschoten\, Nederland
CATEGORIES:Diensten / Bijeenkomsten
END:VEVENT
BEGIN:VEVENT
DTSTART;TZID=UTC:20190413T193000
DTEND;TZID=UTC:20190413T203000
DTSTAMP:20260425T192259
CREATED:20190412T100027Z
LAST-MODIFIED:20190412T100027Z
UID:4125-1555183800-1555187400@www.baptisten-winschoten.nl
SUMMARY:Welkomstavond ds. Hellinga
DESCRIPTION:
URL:https://www.baptisten-winschoten.nl/item/welkomstavond-ds-hellinga/
LOCATION:Kerkgebouw\, Azaleastraat 16A\, Winschoten\, Nederland
CATEGORIES:Diensten / Bijeenkomsten
END:VEVENT
BEGIN:VEVENT
DTSTART;TZID=UTC:20190414T093000
DTEND;TZID=UTC:20190414T110000
DTSTAMP:20260425T192259
CREATED:20190412T100108Z
LAST-MODIFIED:20190412T100108Z
UID:4127-1555234200-1555239600@www.baptisten-winschoten.nl
SUMMARY:Dienst
DESCRIPTION:Dienst\, met ds. Hellinga \nNa de dienst koffie drinken
URL:https://www.baptisten-winschoten.nl/item/dienst-142/
LOCATION:Kerkgebouw\, Azaleastraat 16A\, Winschoten\, Nederland
CATEGORIES:Diensten / Bijeenkomsten
END:VEVENT
BEGIN:VEVENT
DTSTART;TZID=UTC:20190418T190000
DTEND;TZID=UTC:20190418T200000
DTSTAMP:20260425T192259
CREATED:20190418T121420Z
LAST-MODIFIED:20190418T122142Z
UID:4131-1555614000-1555617600@www.baptisten-winschoten.nl
SUMMARY:Dienst (Witte Donderdag)
DESCRIPTION:Dienst in de lijdensweek \nWitte donderdag \nTijdens de dienst viering van het avondmaal
URL:https://www.baptisten-winschoten.nl/item/dienst-lijdensweek-3/
LOCATION:Kerkgebouw\, Azaleastraat 16A\, Winschoten\, Nederland
CATEGORIES:Diensten / Bijeenkomsten
END:VEVENT
BEGIN:VEVENT
DTSTART;TZID=UTC:20190419T190000
DTEND;TZID=UTC:20190419T200000
DTSTAMP:20260425T192259
CREATED:20190418T122022Z
LAST-MODIFIED:20190418T122022Z
UID:4152-1555700400-1555704000@www.baptisten-winschoten.nl
SUMMARY:Dienst (Goede Vrijdag)
DESCRIPTION:Dienst lijdensweek \nGoede vrijdag
URL:https://www.baptisten-winschoten.nl/item/dienst-goede-vrijdag-5/
LOCATION:Kerkgebouw\, Azaleastraat 16A\, Winschoten\, Nederland
CATEGORIES:Diensten / Bijeenkomsten
END:VEVENT
BEGIN:VEVENT
DTSTART;TZID=UTC:20190420T190000
DTEND;TZID=UTC:20190420T200000
DTSTAMP:20260425T192259
CREATED:20190418T122107Z
LAST-MODIFIED:20190418T122107Z
UID:4154-1555786800-1555790400@www.baptisten-winschoten.nl
SUMMARY:Dienst (Stille Zaterdag)
DESCRIPTION:Dienst lijdensweek \nStille Zaterdag
URL:https://www.baptisten-winschoten.nl/item/dienst-stille-zaterdag-3/
LOCATION:Kerkgebouw\, Azaleastraat 16A\, Winschoten\, Nederland
CATEGORIES:Diensten / Bijeenkomsten
END:VEVENT
BEGIN:VEVENT
DTSTART;TZID=UTC:20190421T093000
DTEND;TZID=UTC:20190421T110000
DTSTAMP:20260425T192259
CREATED:20190418T121936Z
LAST-MODIFIED:20190418T121936Z
UID:4150-1555839000-1555844400@www.baptisten-winschoten.nl
SUMMARY:Dienst (Eerste paasdag)
DESCRIPTION:Dienst Eerste paasdag\, met ds. Hellinga \nNa de dienst koffie drinken
URL:https://www.baptisten-winschoten.nl/item/dienst-eerste-paasdag-4/
LOCATION:Kerkgebouw\, Azaleastraat 16A\, Winschoten\, Nederland
CATEGORIES:Diensten / Bijeenkomsten
END:VEVENT
BEGIN:VEVENT
DTSTART;TZID=UTC:20190422T103000
DTEND;TZID=UTC:20190422T120000
DTSTAMP:20260425T192259
CREATED:20190412T095557Z
LAST-MODIFIED:20190412T095753Z
UID:4119-1555929000-1555934400@www.baptisten-winschoten.nl
SUMMARY:Openluchtdienst
DESCRIPTION:
URL:https://www.baptisten-winschoten.nl/item/openluchtdienst/
LOCATION:Israëlplein Winschoten\, Israëlplein\, Winschoten
CATEGORIES:Diensten / Bijeenkomsten
END:VEVENT
BEGIN:VEVENT
DTSTART;TZID=UTC:20190428T093000
DTEND;TZID=UTC:20190428T110000
DTSTAMP:20260425T192259
CREATED:20190418T122500Z
LAST-MODIFIED:20190418T122500Z
UID:4165-1556443800-1556449200@www.baptisten-winschoten.nl
SUMMARY:Dienst
DESCRIPTION:Dienst\, met ds. Hellinga \nNa de dienst koffie drinken
URL:https://www.baptisten-winschoten.nl/item/dienst-143/
LOCATION:Kerkgebouw\, Azaleastraat 16A\, Winschoten\, Nederland
CATEGORIES:Diensten / Bijeenkomsten
END:VEVENT
BEGIN:VEVENT
DTSTART;TZID=UTC:20190505T093000
DTEND;TZID=UTC:20190505T110000
DTSTAMP:20260425T192259
CREATED:20190428T150602Z
LAST-MODIFIED:20190428T150844Z
UID:4200-1557048600-1557054000@www.baptisten-winschoten.nl
SUMMARY:Avondmaalsdienst
DESCRIPTION:Dienst\, br. L. Drenth \nTijdens de dienst viering van het avondmaal \nNa de dienst koffie drinken
URL:https://www.baptisten-winschoten.nl/item/avondmaalsdienst-40/
LOCATION:Kerkgebouw\, Azaleastraat 16A\, Winschoten\, Nederland
CATEGORIES:Diensten / Bijeenkomsten
END:VEVENT
BEGIN:VEVENT
DTSTART;TZID=UTC:20190505T190000
DTEND;TZID=UTC:20190505T203000
DTSTAMP:20260425T192259
CREATED:20190428T150625Z
LAST-MODIFIED:20190428T150625Z
UID:4202-1557082800-1557088200@www.baptisten-winschoten.nl
SUMMARY:Jeugdavond
DESCRIPTION:Jeugdavond
URL:https://www.baptisten-winschoten.nl/item/jeugdavond-44/
LOCATION:Kerkgebouw\, Azaleastraat 16A\, Winschoten\, Nederland
CATEGORIES:Diensten / Bijeenkomsten
END:VEVENT
BEGIN:VEVENT
DTSTART;TZID=UTC:20190512T093000
DTEND;TZID=UTC:20190512T110000
DTSTAMP:20260425T192259
CREATED:20190505T160208Z
LAST-MODIFIED:20190510T154814Z
UID:4242-1557653400-1557658800@www.baptisten-winschoten.nl
SUMMARY:Dienst
DESCRIPTION:Spreker: ds. Liebrecht P. Hellinga \nBijbelgedeelte: 1 Samuel 1:1-20 \nThema: “Bidden: wat had jij dan verwacht?”
URL:https://www.baptisten-winschoten.nl/item/dienst-144/
LOCATION:Kerkgebouw\, Azaleastraat 16A\, Winschoten\, Nederland
CATEGORIES:Diensten / Bijeenkomsten
END:VEVENT
BEGIN:VEVENT
DTSTART;TZID=UTC:20190519T093000
DTEND;TZID=UTC:20190519T110000
DTSTAMP:20260425T192259
CREATED:20190510T154847Z
LAST-MODIFIED:20190510T154847Z
UID:4248-1558258200-1558263600@www.baptisten-winschoten.nl
SUMMARY:Dienst
DESCRIPTION:Dienst\, met br. R. Peters \nNa de dienst koffie drinken
URL:https://www.baptisten-winschoten.nl/item/dienst-145/
LOCATION:Kerkgebouw\, Azaleastraat 16A\, Winschoten\, Nederland
CATEGORIES:Diensten / Bijeenkomsten
END:VEVENT
BEGIN:VEVENT
DTSTART;TZID=UTC:20190526T093000
DTEND;TZID=UTC:20190526T110000
DTSTAMP:20260425T192259
CREATED:20190510T154918Z
LAST-MODIFIED:20190510T154918Z
UID:4250-1558863000-1558868400@www.baptisten-winschoten.nl
SUMMARY:Dienst
DESCRIPTION:Spreker: ds. Liebrecht P. Hellinga \nBijbelgedeelte: Nehemia 3:36-38 \nThema: “Bidden: Mag je echt alles zeggen? …”
URL:https://www.baptisten-winschoten.nl/item/dienst-146/
LOCATION:Kerkgebouw\, Azaleastraat 16A\, Winschoten\, Nederland
CATEGORIES:Diensten / Bijeenkomsten
END:VEVENT
BEGIN:VEVENT
DTSTART;TZID=UTC:20190530T093000
DTEND;TZID=UTC:20190530T110000
DTSTAMP:20260425T192259
CREATED:20190510T155343Z
LAST-MODIFIED:20190510T155343Z
UID:4264-1559208600-1559214000@www.baptisten-winschoten.nl
SUMMARY:Hemelvaartsdag dienst
DESCRIPTION:Spreker: ds. Liebrecht P. Hellinga \nBijbelgedeelte: Psalm 2 \nThema: “God doet recht!”
URL:https://www.baptisten-winschoten.nl/item/hemelvaartsdag-dienst-3/
LOCATION:Kerkgebouw\, Azaleastraat 16A\, Winschoten\, Nederland
CATEGORIES:Diensten / Bijeenkomsten
END:VEVENT
BEGIN:VEVENT
DTSTART;TZID=UTC:20190602T093000
DTEND;TZID=UTC:20190602T110000
DTSTAMP:20260425T192259
CREATED:20190510T155111Z
LAST-MODIFIED:20190510T155111Z
UID:4255-1559467800-1559473200@www.baptisten-winschoten.nl
SUMMARY:Avondmaalsdienst
DESCRIPTION:Spreker: ds. Liebrecht P. Hellinga \nBijbelgedeelte: Jakobus 5:13-18 \nThema: “Bidden: hoe krachtig kan jouw gebed zijn!” \nTijdens de dienst viering van het avondmaal.
URL:https://www.baptisten-winschoten.nl/item/avondmaalsdienst-41/
LOCATION:Kerkgebouw\, Azaleastraat 16A\, Winschoten\, Nederland
CATEGORIES:Diensten / Bijeenkomsten
END:VEVENT
BEGIN:VEVENT
DTSTART;TZID=UTC:20190609T093000
DTEND;TZID=UTC:20190609T110000
DTSTAMP:20260425T192259
CREATED:20190602T160955Z
LAST-MODIFIED:20190602T160955Z
UID:4316-1560072600-1560078000@www.baptisten-winschoten.nl
SUMMARY:1ste Pinksterdag dienst
DESCRIPTION:1ste Pinksterdag dienst\, met ds. Hellinga \nNa de dienst koffie drinken
URL:https://www.baptisten-winschoten.nl/item/1ste-pinksterdag-dienst-4/
LOCATION:Kerkgebouw\, Azaleastraat 16A\, Winschoten\, Nederland
CATEGORIES:Diensten / Bijeenkomsten
END:VEVENT
BEGIN:VEVENT
DTSTART;TZID=UTC:20190616T093000
DTEND;TZID=UTC:20190616T110000
DTSTAMP:20260425T192259
CREATED:20190611T170106Z
LAST-MODIFIED:20190611T170106Z
UID:4321-1560677400-1560682800@www.baptisten-winschoten.nl
SUMMARY:Dienst
DESCRIPTION:Dienst\, met ds. Hellinga \nNa de dienst koffie drinken
URL:https://www.baptisten-winschoten.nl/item/dienst-147/
LOCATION:Kerkgebouw\, Azaleastraat 16A\, Winschoten\, Nederland
CATEGORIES:Diensten / Bijeenkomsten
END:VEVENT
BEGIN:VEVENT
DTSTART;TZID=UTC:20190623T090000
DTEND;TZID=UTC:20190623T110000
DTSTAMP:20260425T192259
CREATED:20190611T170139Z
LAST-MODIFIED:20190611T170139Z
UID:4323-1561280400-1561287600@www.baptisten-winschoten.nl
SUMMARY:Dienst
DESCRIPTION:Dienst\, met ds. Hellinga \nNa de dienst koffie drinken
URL:https://www.baptisten-winschoten.nl/item/dienst-148/
LOCATION:Kerkgebouw\, Azaleastraat 16A\, Winschoten\, Nederland
CATEGORIES:Diensten / Bijeenkomsten
END:VEVENT
BEGIN:VEVENT
DTSTART;TZID=UTC:20190630T093000
DTEND;TZID=UTC:20190630T110000
DTSTAMP:20260425T192259
CREATED:20190611T170207Z
LAST-MODIFIED:20190611T170207Z
UID:4325-1561887000-1561892400@www.baptisten-winschoten.nl
SUMMARY:Dienst
DESCRIPTION:Dienst\, met ds. Hellinga \nNa de dienst koffie drinken
URL:https://www.baptisten-winschoten.nl/item/dienst-149/
LOCATION:Kerkgebouw\, Azaleastraat 16A\, Winschoten\, Nederland
CATEGORIES:Diensten / Bijeenkomsten
END:VEVENT
BEGIN:VEVENT
DTSTART;TZID=UTC:20190707T093000
DTEND;TZID=UTC:20190707T110000
DTSTAMP:20260425T192259
CREATED:20190611T170253Z
LAST-MODIFIED:20190611T170253Z
UID:4327-1562491800-1562497200@www.baptisten-winschoten.nl
SUMMARY:Avondmaalsdienst
DESCRIPTION:Avondmaalsdienst\, met ds. Hellinga \nTijdens de dienst viering van het avondmaal \nNa de dienst koffie drinken
URL:https://www.baptisten-winschoten.nl/item/avondmaalsdienst-42/
LOCATION:Kerkgebouw\, Azaleastraat 16A\, Winschoten\, Nederland
CATEGORIES:Diensten / Bijeenkomsten
END:VEVENT
BEGIN:VEVENT
DTSTART;TZID=UTC:20190714T093000
DTEND;TZID=UTC:20190714T110000
DTSTAMP:20260425T192259
CREATED:20190707T170656Z
LAST-MODIFIED:20190707T170656Z
UID:4431-1563096600-1563102000@www.baptisten-winschoten.nl
SUMMARY:Dienst
DESCRIPTION:Dienst\, met ds. Hellinga\nNa de dienst koffie drinken
URL:https://www.baptisten-winschoten.nl/item/dienst-151/
LOCATION:Kerkgebouw\, Azaleastraat 16A\, Winschoten\, Nederland
CATEGORIES:Diensten / Bijeenkomsten
END:VEVENT
BEGIN:VEVENT
DTSTART;TZID=UTC:20190728T093000
DTEND;TZID=UTC:20190728T110000
DTSTAMP:20260425T192259
CREATED:20190707T170738Z
LAST-MODIFIED:20190707T170738Z
UID:4433-1564306200-1564311600@www.baptisten-winschoten.nl
SUMMARY:Dienst
DESCRIPTION:Dienst\, met br. A. Kroes \nNa de dienst koffie drinken
URL:https://www.baptisten-winschoten.nl/item/dienst-152/
LOCATION:Kerkgebouw\, Azaleastraat 16A\, Winschoten\, Nederland
CATEGORIES:Diensten / Bijeenkomsten
END:VEVENT
BEGIN:VEVENT
DTSTART;TZID=UTC:20190804T093000
DTEND;TZID=UTC:20190804T110000
DTSTAMP:20260425T192259
CREATED:20190707T170816Z
LAST-MODIFIED:20190707T171027Z
UID:4435-1564911000-1564916400@www.baptisten-winschoten.nl
SUMMARY:Avondmaalsdienst
DESCRIPTION:Avondmaalsdienst\, met ds. Hellinga \nTijdens de dienst viering van het avondmaal \nNa de dienst koffie drinken
URL:https://www.baptisten-winschoten.nl/item/dienst-153/
LOCATION:Kerkgebouw\, Azaleastraat 16A\, Winschoten\, Nederland
CATEGORIES:Diensten / Bijeenkomsten
END:VEVENT
BEGIN:VEVENT
DTSTART;TZID=UTC:20190811T093000
DTEND;TZID=UTC:20190811T110000
DTSTAMP:20260425T192259
CREATED:20190707T170850Z
LAST-MODIFIED:20190707T170850Z
UID:4437-1565515800-1565521200@www.baptisten-winschoten.nl
SUMMARY:Dienst
DESCRIPTION:Dienst\, met ds. Hellinga \nNa de dienst koffie drinken
URL:https://www.baptisten-winschoten.nl/item/dienst-154/
LOCATION:Kerkgebouw\, Azaleastraat 16A\, Winschoten\, Nederland
CATEGORIES:Diensten / Bijeenkomsten
END:VEVENT
BEGIN:VEVENT
DTSTART;TZID=UTC:20190811T093000
DTEND;TZID=UTC:20190811T110000
DTSTAMP:20260425T192259
CREATED:20190707T170941Z
LAST-MODIFIED:20190707T170941Z
UID:4439-1565515800-1565521200@www.baptisten-winschoten.nl
SUMMARY:Dienst
DESCRIPTION:Dienst\, met ds. Hellinga \nNa de dienst koffie drinken
URL:https://www.baptisten-winschoten.nl/item/dienst-155/
LOCATION:Kerkgebouw\, Azaleastraat 16A\, Winschoten\, Nederland
CATEGORIES:Diensten / Bijeenkomsten
END:VEVENT
BEGIN:VEVENT
DTSTART;TZID=UTC:20190818T093000
DTEND;TZID=UTC:20190818T110000
DTSTAMP:20260425T192259
CREATED:20190707T171117Z
LAST-MODIFIED:20190707T171117Z
UID:4443-1566120600-1566126000@www.baptisten-winschoten.nl
SUMMARY:Dienst
DESCRIPTION:Dienst\, met ds. Hellinga \nNa de dienst koffie drinken
URL:https://www.baptisten-winschoten.nl/item/dienst-156/
LOCATION:Kerkgebouw\, Azaleastraat 16A\, Winschoten\, Nederland
CATEGORIES:Diensten / Bijeenkomsten
END:VEVENT
BEGIN:VEVENT
DTSTART;TZID=UTC:20190825T093000
DTEND;TZID=UTC:20190825T110000
DTSTAMP:20260425T192259
CREATED:20190707T171148Z
LAST-MODIFIED:20190707T171148Z
UID:4445-1566725400-1566730800@www.baptisten-winschoten.nl
SUMMARY:Dienst
DESCRIPTION:Dienst\, met ds. J. Kruizinga \nNa de dienst koffie drinken
URL:https://www.baptisten-winschoten.nl/item/dienst-157/
LOCATION:Kerkgebouw\, Azaleastraat 16A\, Winschoten\, Nederland
CATEGORIES:Diensten / Bijeenkomsten
END:VEVENT
BEGIN:VEVENT
DTSTART;TZID=UTC:20190901T093000
DTEND;TZID=UTC:20190901T113000
DTSTAMP:20260425T192259
CREATED:20190828T160928Z
LAST-MODIFIED:20190828T161126Z
UID:4484-1567330200-1567337400@www.baptisten-winschoten.nl
SUMMARY:Avondmaalsdienst
DESCRIPTION:Dienst\, met ds. Hellinga \nds. Liebrecht P. Hellinga spreekt over “Eenheid: samen in de naam van Jezus” n.a.v. Joh.17: 20-23 \nTijdens de dienst viering van het avondmaal \nNa de dienst koffie drinken
URL:https://www.baptisten-winschoten.nl/item/avondmaalsdienst-43/
LOCATION:Kerkgebouw\, Azaleastraat 16A\, Winschoten\, Nederland
CATEGORIES:Diensten / Bijeenkomsten
END:VEVENT
END:VCALENDAR