BEGIN:VCALENDAR
VERSION:2.0
PRODID:-//Baptisten Gemeente Winschoten - ECPv6.15.20//NONSGML v1.0//EN
CALSCALE:GREGORIAN
METHOD:PUBLISH
X-WR-CALNAME:Baptisten Gemeente Winschoten
X-ORIGINAL-URL:https://www.baptisten-winschoten.nl
X-WR-CALDESC:Evenementen voor Baptisten Gemeente Winschoten
REFRESH-INTERVAL;VALUE=DURATION:PT1H
X-Robots-Tag:noindex
X-PUBLISHED-TTL:PT1H
BEGIN:VTIMEZONE
TZID:UTC
BEGIN:STANDARD
TZOFFSETFROM:+0000
TZOFFSETTO:+0000
TZNAME:UTC
DTSTART:20180101T000000
END:STANDARD
END:VTIMEZONE
BEGIN:VTIMEZONE
TZID:Europe/Helsinki
BEGIN:DAYLIGHT
TZOFFSETFROM:+0200
TZOFFSETTO:+0300
TZNAME:EEST
DTSTART:20190331T010000
END:DAYLIGHT
BEGIN:STANDARD
TZOFFSETFROM:+0300
TZOFFSETTO:+0200
TZNAME:EET
DTSTART:20191027T010000
END:STANDARD
BEGIN:DAYLIGHT
TZOFFSETFROM:+0200
TZOFFSETTO:+0300
TZNAME:EEST
DTSTART:20200329T010000
END:DAYLIGHT
BEGIN:STANDARD
TZOFFSETFROM:+0300
TZOFFSETTO:+0200
TZNAME:EET
DTSTART:20201025T010000
END:STANDARD
BEGIN:DAYLIGHT
TZOFFSETFROM:+0200
TZOFFSETTO:+0300
TZNAME:EEST
DTSTART:20210328T010000
END:DAYLIGHT
BEGIN:STANDARD
TZOFFSETFROM:+0300
TZOFFSETTO:+0200
TZNAME:EET
DTSTART:20211031T010000
END:STANDARD
BEGIN:DAYLIGHT
TZOFFSETFROM:+0200
TZOFFSETTO:+0300
TZNAME:EEST
DTSTART:20220327T010000
END:DAYLIGHT
BEGIN:STANDARD
TZOFFSETFROM:+0300
TZOFFSETTO:+0200
TZNAME:EET
DTSTART:20221030T010000
END:STANDARD
BEGIN:DAYLIGHT
TZOFFSETFROM:+0200
TZOFFSETTO:+0300
TZNAME:EEST
DTSTART:20230326T010000
END:DAYLIGHT
BEGIN:STANDARD
TZOFFSETFROM:+0300
TZOFFSETTO:+0200
TZNAME:EET
DTSTART:20231029T010000
END:STANDARD
END:VTIMEZONE
BEGIN:VEVENT
DTSTART;TZID=UTC:20191218T193000
DTEND;TZID=UTC:20191218T203000
DTSTAMP:20260425T162517
CREATED:20191216T171104Z
LAST-MODIFIED:20191216T171104Z
UID:4700-1576697400-1576701000@www.baptisten-winschoten.nl
SUMMARY:Interkerkelijke gebedsbijeenkomst IKEP
DESCRIPTION:Interkerkelijke gebedsbijeenkomst IKEP
URL:https://www.baptisten-winschoten.nl/item/interkerkelijke-gebedsbijeenkomst-ikep-2/
CATEGORIES:Diensten / Bijeenkomsten
END:VEVENT
BEGIN:VEVENT
DTSTART;TZID=UTC:20191221T170000
DTEND;TZID=UTC:20191221T200000
DTSTAMP:20260425T162517
CREATED:20191124T180331Z
LAST-MODIFIED:20191124T180331Z
UID:4659-1576947600-1576958400@www.baptisten-winschoten.nl
SUMMARY:Met Kerst naar buiten
DESCRIPTION:Met kerst naar buiten\, samen eten & drinken en een Sing-in m.m.v. Soulfuel.
URL:https://www.baptisten-winschoten.nl/item/met-kerst-naar-buiten-2/
LOCATION:Kerkgebouw\, Azaleastraat 16A\, Winschoten\, Nederland
CATEGORIES:Diensten / Bijeenkomsten
END:VEVENT
BEGIN:VEVENT
DTSTART;TZID=UTC:20191222T090000
DTEND;TZID=UTC:20191222T110000
DTSTAMP:20260425T162517
CREATED:20191216T170955Z
LAST-MODIFIED:20191216T170955Z
UID:4698-1577005200-1577012400@www.baptisten-winschoten.nl
SUMMARY:Dienst (4de Advent)
DESCRIPTION:Dienst (4de Advent)\, met ds. Hellinga\nNa de dienst koffie drinken
URL:https://www.baptisten-winschoten.nl/item/dienst-4de-advent-2/
LOCATION:Kerkgebouw\, Azaleastraat 16A\, Winschoten\, Nederland
CATEGORIES:Diensten / Bijeenkomsten
END:VEVENT
BEGIN:VEVENT
DTSTART;TZID=UTC:20191224T193000
DTEND;TZID=UTC:20191224T210000
DTSTAMP:20260425T162517
CREATED:20191216T165548Z
LAST-MODIFIED:20191216T165548Z
UID:4688-1577215800-1577221200@www.baptisten-winschoten.nl
SUMMARY:Kerstzangdienst
DESCRIPTION:Kerstzangdienst
URL:https://www.baptisten-winschoten.nl/item/kerstzangdienst/
LOCATION:de Vennekerk\, Venne 150\, Winschoten\, 9671EX
CATEGORIES:Diensten / Bijeenkomsten
END:VEVENT
BEGIN:VEVENT
DTSTART;TZID=UTC:20191225T090000
DTEND;TZID=UTC:20191225T110000
DTSTAMP:20260425T162517
CREATED:20191124T180404Z
LAST-MODIFIED:20191124T180404Z
UID:4663-1577264400-1577271600@www.baptisten-winschoten.nl
SUMMARY:1ste Kerstdag dienst
DESCRIPTION:
URL:https://www.baptisten-winschoten.nl/item/1ste-kerstdag-dienst/
LOCATION:Kerkgebouw\, Azaleastraat 16A\, Winschoten\, Nederland
CATEGORIES:Diensten / Bijeenkomsten
END:VEVENT
BEGIN:VEVENT
DTSTART;TZID=UTC:20200105T093000
DTEND;TZID=UTC:20200105T110000
DTSTAMP:20260425T162517
CREATED:20200107T164959Z
LAST-MODIFIED:20200107T164959Z
UID:4712-1578216600-1578222000@www.baptisten-winschoten.nl
SUMMARY:Dienst
DESCRIPTION:Dienst\, met br. G. Elzen\nNa de dienst koffie drinken
URL:https://www.baptisten-winschoten.nl/item/dienst-165/
LOCATION:Kerkgebouw\, Azaleastraat 16A\, Winschoten\, Nederland
CATEGORIES:Diensten / Bijeenkomsten
END:VEVENT
BEGIN:VEVENT
DTSTART;TZID=UTC:20200112T093000
DTEND;TZID=UTC:20200112T110000
DTSTAMP:20260425T162517
CREATED:20200107T165057Z
LAST-MODIFIED:20200107T165057Z
UID:4714-1578821400-1578826800@www.baptisten-winschoten.nl
SUMMARY:Doopdienst
DESCRIPTION:Doopdienst\, met ds. Hellinga\nNa de dienst koffie drinken
URL:https://www.baptisten-winschoten.nl/item/doopdienst-5/
LOCATION:Kerkgebouw\, Azaleastraat 16A\, Winschoten\, Nederland
CATEGORIES:Diensten / Bijeenkomsten
END:VEVENT
BEGIN:VEVENT
DTSTART;TZID=UTC:20200223T093000
DTEND;TZID=UTC:20200223T110000
DTSTAMP:20260425T162517
CREATED:20200224T163547Z
LAST-MODIFIED:20200224T163547Z
UID:4747-1582450200-1582455600@www.baptisten-winschoten.nl
SUMMARY:Dienst
DESCRIPTION:Dienst\, met ds. Hellinga \nNa de dienst koffie drinken
URL:https://www.baptisten-winschoten.nl/item/dienst-166/
LOCATION:Kerkgebouw\, Azaleastraat 16A\, Winschoten\, Nederland
CATEGORIES:Diensten / Bijeenkomsten
END:VEVENT
BEGIN:VEVENT
DTSTART;TZID=UTC:20200301T083000
DTEND;TZID=UTC:20200301T110000
DTSTAMP:20260425T162517
CREATED:20200224T163619Z
LAST-MODIFIED:20200224T164021Z
UID:4749-1583051400-1583060400@www.baptisten-winschoten.nl
SUMMARY:Avondmaalsdienst
DESCRIPTION:Avondmaalsdienst\, met ds. Hellinga \nNa de dienst koffie drinken
URL:https://www.baptisten-winschoten.nl/item/avondmaalsdienst-45/
LOCATION:Kerkgebouw\, Azaleastraat 16A\, Winschoten\, Nederland
CATEGORIES:Diensten / Bijeenkomsten
END:VEVENT
BEGIN:VEVENT
DTSTART;TZID=UTC:20200308T083000
DTEND;TZID=UTC:20200308T110000
DTSTAMP:20260425T162517
CREATED:20200224T163936Z
LAST-MODIFIED:20200224T163936Z
UID:4753-1583656200-1583665200@www.baptisten-winschoten.nl
SUMMARY:Dienst
DESCRIPTION:Dienst\, met ds. Hellinga \nNa de dienst koffie drinken
URL:https://www.baptisten-winschoten.nl/item/dienst-168/
LOCATION:Kerkgebouw\, Azaleastraat 16A\, Winschoten\, Nederland
CATEGORIES:Diensten / Bijeenkomsten
END:VEVENT
BEGIN:VEVENT
DTSTART;TZID=Europe/Helsinki:20200802T090000
DTEND;TZID=Europe/Helsinki:20200802T110000
DTSTAMP:20260425T162517
CREATED:20200723T193428Z
LAST-MODIFIED:20200723T193428Z
UID:5063-1596358800-1596366000@www.baptisten-winschoten.nl
SUMMARY:Dienst (via reservering)
DESCRIPTION:Dienst\, alleen via reservering. \nZie hier voor meer informatie m.b.t. het reservering systeem.
URL:https://www.baptisten-winschoten.nl/item/dienst-via-reservering/
LOCATION:Kerkgebouw\, Azaleastraat 16A\, Winschoten\, Nederland
CATEGORIES:Diensten / Bijeenkomsten
END:VEVENT
BEGIN:VEVENT
DTSTART;TZID=Europe/Helsinki:20200809T093000
DTEND;TZID=Europe/Helsinki:20200809T110000
DTSTAMP:20260425T162517
CREATED:20200723T193623Z
LAST-MODIFIED:20200723T193623Z
UID:5065-1596965400-1596970800@www.baptisten-winschoten.nl
SUMMARY:Dienst (via reservering)
DESCRIPTION:Dienst\, alleen via reservering. \nZie hier voor meer informatie m.b.t. het reservering systeem.
URL:https://www.baptisten-winschoten.nl/item/dienst-via-reservering-2/
LOCATION:Kerkgebouw\, Azaleastraat 16A\, Winschoten\, Nederland
CATEGORIES:Diensten / Bijeenkomsten
END:VEVENT
BEGIN:VEVENT
DTSTART;TZID=Europe/Helsinki:20200816T093000
DTEND;TZID=Europe/Helsinki:20200816T110000
DTSTAMP:20260425T162517
CREATED:20200723T193648Z
LAST-MODIFIED:20200723T193648Z
UID:5068-1597570200-1597575600@www.baptisten-winschoten.nl
SUMMARY:Dienst (via reservering)
DESCRIPTION:Dienst\, alleen via reservering. \nZie hier voor meer informatie m.b.t. het reservering systeem.
URL:https://www.baptisten-winschoten.nl/item/dienst-via-reservering-3/
LOCATION:Kerkgebouw\, Azaleastraat 16A\, Winschoten\, Nederland
CATEGORIES:Diensten / Bijeenkomsten
END:VEVENT
BEGIN:VEVENT
DTSTART;TZID=Europe/Helsinki:20200823T093000
DTEND;TZID=Europe/Helsinki:20200823T110000
DTSTAMP:20260425T162517
CREATED:20200723T193932Z
LAST-MODIFIED:20200723T193932Z
UID:5070-1598175000-1598180400@www.baptisten-winschoten.nl
SUMMARY:Dienst (via reservering)
DESCRIPTION:Dienst\, alleen via reservering. \nZie hier voor meer informatie m.b.t. het reservering systeem.
URL:https://www.baptisten-winschoten.nl/item/dienst-via-reservering-4/
LOCATION:Kerkgebouw\, Azaleastraat 16A\, Winschoten\, Nederland
CATEGORIES:Diensten / Bijeenkomsten
END:VEVENT
BEGIN:VEVENT
DTSTART;TZID=Europe/Helsinki:20210606T093000
DTEND;TZID=Europe/Helsinki:20210606T110000
DTSTAMP:20260425T162517
CREATED:20210607T151427Z
LAST-MODIFIED:20210607T151427Z
UID:5357-1622971800-1622977200@www.baptisten-winschoten.nl
SUMMARY:Avondmaalsdienst
DESCRIPTION:Avondmaalsdienst
URL:https://www.baptisten-winschoten.nl/item/avondmaalsdienst-46/
LOCATION:Kerkgebouw\, Azaleastraat 16A\, Winschoten\, Nederland
CATEGORIES:Diensten / Bijeenkomsten
END:VEVENT
BEGIN:VEVENT
DTSTART;TZID=Europe/Helsinki:20210613T093000
DTEND;TZID=Europe/Helsinki:20210613T103000
DTSTAMP:20260425T162517
CREATED:20210607T151325Z
LAST-MODIFIED:20210607T151325Z
UID:5354-1623576600-1623580200@www.baptisten-winschoten.nl
SUMMARY:Dienst
DESCRIPTION:
URL:https://www.baptisten-winschoten.nl/item/dienst-167/
LOCATION:Kerkgebouw\, Azaleastraat 16A\, Winschoten\, Nederland
CATEGORIES:Diensten / Bijeenkomsten
END:VEVENT
BEGIN:VEVENT
DTSTART;TZID=Europe/Helsinki:20210620T093000
DTEND;TZID=Europe/Helsinki:20210620T103000
DTSTAMP:20260425T162517
CREATED:20210607T151453Z
LAST-MODIFIED:20210607T151453Z
UID:5359-1624181400-1624185000@www.baptisten-winschoten.nl
SUMMARY:Dienst
DESCRIPTION:Dienst
URL:https://www.baptisten-winschoten.nl/item/dienst-169/
LOCATION:Kerkgebouw\, Azaleastraat 16A\, Winschoten\, Nederland
CATEGORIES:Diensten / Bijeenkomsten
END:VEVENT
BEGIN:VEVENT
DTSTART;TZID=Europe/Helsinki:20210627T093000
DTEND;TZID=Europe/Helsinki:20210627T110000
DTSTAMP:20260425T162517
CREATED:20210607T151513Z
LAST-MODIFIED:20210607T151513Z
UID:5361-1624786200-1624791600@www.baptisten-winschoten.nl
SUMMARY:Dienst
DESCRIPTION:Dienst
URL:https://www.baptisten-winschoten.nl/item/dienst-170/
LOCATION:Kerkgebouw\, Azaleastraat 16A\, Winschoten\, Nederland
CATEGORIES:Diensten / Bijeenkomsten
END:VEVENT
BEGIN:VEVENT
DTSTART;TZID=Europe/Helsinki:20210704T093000
DTEND;TZID=Europe/Helsinki:20210704T110000
DTSTAMP:20260425T162517
CREATED:20210630T174812Z
LAST-MODIFIED:20210630T174812Z
UID:5365-1625391000-1625396400@www.baptisten-winschoten.nl
SUMMARY:Avondmaalsdienst
DESCRIPTION:Avondmaalsdienst \nAanmelden voor fysieke diensten kan via kerktijd.\nKijk hier voor meer informatie
URL:https://www.baptisten-winschoten.nl/item/avondmaalsdienst-47/
LOCATION:Kerkgebouw\, Azaleastraat 16A\, Winschoten\, Nederland
CATEGORIES:Diensten / Bijeenkomsten
END:VEVENT
BEGIN:VEVENT
DTSTART;TZID=Europe/Helsinki:20210711T093000
DTEND;TZID=Europe/Helsinki:20210711T110000
DTSTAMP:20260425T162517
CREATED:20210630T174924Z
LAST-MODIFIED:20210630T174924Z
UID:5368-1625995800-1626001200@www.baptisten-winschoten.nl
SUMMARY:Dienst
DESCRIPTION:Dienst \nAanmelden voor fysieke diensten kan via kerktijd.\nKijk hier voor meer informatie
URL:https://www.baptisten-winschoten.nl/item/dienst-171/
LOCATION:Kerkgebouw\, Azaleastraat 16A\, Winschoten\, Nederland
CATEGORIES:Diensten / Bijeenkomsten
END:VEVENT
BEGIN:VEVENT
DTSTART;TZID=Europe/Helsinki:20210718T093000
DTEND;TZID=Europe/Helsinki:20210718T110000
DTSTAMP:20260425T162517
CREATED:20210630T174952Z
LAST-MODIFIED:20210630T174952Z
UID:5370-1626600600-1626606000@www.baptisten-winschoten.nl
SUMMARY:Dienst
DESCRIPTION:Avondmaalsdienst \nAanmelden voor fysieke diensten kan via kerktijd.\nKijk hier voor meer informatie
URL:https://www.baptisten-winschoten.nl/item/dienst-172/
LOCATION:Kerkgebouw\, Azaleastraat 16A\, Winschoten\, Nederland
CATEGORIES:Diensten / Bijeenkomsten
END:VEVENT
BEGIN:VEVENT
DTSTART;TZID=Europe/Helsinki:20210725T093000
DTEND;TZID=Europe/Helsinki:20210725T110000
DTSTAMP:20260425T162517
CREATED:20210630T175014Z
LAST-MODIFIED:20210630T175014Z
UID:5372-1627205400-1627210800@www.baptisten-winschoten.nl
SUMMARY:Dienst
DESCRIPTION:Dienst \nAanmelden voor fysieke diensten kan via kerktijd.\nKijk hier voor meer informatie
URL:https://www.baptisten-winschoten.nl/item/dienst-173/
LOCATION:Kerkgebouw\, Azaleastraat 16A\, Winschoten\, Nederland
CATEGORIES:Diensten / Bijeenkomsten
END:VEVENT
BEGIN:VEVENT
DTSTART;TZID=Europe/Helsinki:20211003T093000
DTEND;TZID=Europe/Helsinki:20211003T110000
DTSTAMP:20260425T162517
CREATED:20210921T155108Z
LAST-MODIFIED:20210921T155108Z
UID:5396-1633253400-1633258800@www.baptisten-winschoten.nl
SUMMARY:Start zondag
DESCRIPTION:Start zondag
URL:https://www.baptisten-winschoten.nl/item/start-zondag/
LOCATION:Kerkgebouw\, Azaleastraat 16A\, Winschoten\, Nederland
CATEGORIES:Diensten / Bijeenkomsten
END:VEVENT
BEGIN:VEVENT
DTSTART;TZID=Europe/Helsinki:20211010T083000
DTEND;TZID=Europe/Helsinki:20211010T113000
DTSTAMP:20260425T162517
CREATED:20210921T155142Z
LAST-MODIFIED:20210921T155142Z
UID:5398-1633854600-1633865400@www.baptisten-winschoten.nl
SUMMARY:Avondmaalsdienst
DESCRIPTION:Avondmaalsdienst
URL:https://www.baptisten-winschoten.nl/item/avondmaalsdienst-48/
LOCATION:Kerkgebouw\, Azaleastraat 16A\, Winschoten\, Nederland
CATEGORIES:Diensten / Bijeenkomsten
END:VEVENT
BEGIN:VEVENT
DTSTART;TZID=Europe/Helsinki:20211205T093000
DTEND;TZID=Europe/Helsinki:20211205T110000
DTSTAMP:20260425T162517
CREATED:20211128T114256Z
LAST-MODIFIED:20211128T114256Z
UID:5450-1638696600-1638702000@www.baptisten-winschoten.nl
SUMMARY:Avondmaalsdienst
DESCRIPTION:Avondmaalsdienst\, met ds. Hellinga\nTijdens de dienst zal het avondmaal gevierd worden.
URL:https://www.baptisten-winschoten.nl/item/avondmaalsdienst-49/
LOCATION:Kerkgebouw\, Azaleastraat 16A\, Winschoten\, Nederland
CATEGORIES:Diensten / Bijeenkomsten
END:VEVENT
BEGIN:VEVENT
DTSTART;TZID=Europe/Helsinki:20211212T093000
DTEND;TZID=Europe/Helsinki:20211212T110000
DTSTAMP:20260425T162517
CREATED:20211128T114317Z
LAST-MODIFIED:20211128T114317Z
UID:5452-1639301400-1639306800@www.baptisten-winschoten.nl
SUMMARY:Dienst
DESCRIPTION:Dienst\, met ds. Hellinga
URL:https://www.baptisten-winschoten.nl/item/dienst-174/
LOCATION:Kerkgebouw\, Azaleastraat 16A\, Winschoten\, Nederland
CATEGORIES:Diensten / Bijeenkomsten
END:VEVENT
BEGIN:VEVENT
DTSTART;TZID=Europe/Helsinki:20211219T093000
DTEND;TZID=Europe/Helsinki:20211219T110000
DTSTAMP:20260425T162517
CREATED:20211128T114343Z
LAST-MODIFIED:20211128T114343Z
UID:5454-1639906200-1639911600@www.baptisten-winschoten.nl
SUMMARY:Dienst
DESCRIPTION:Dienst\, met H. de Raaf
URL:https://www.baptisten-winschoten.nl/item/dienst-175/
LOCATION:Kerkgebouw\, Azaleastraat 16A\, Winschoten\, Nederland
CATEGORIES:Diensten / Bijeenkomsten
END:VEVENT
BEGIN:VEVENT
DTSTART;TZID=Europe/Helsinki:20211225T093000
DTEND;TZID=Europe/Helsinki:20211225T113000
DTSTAMP:20260425T162517
CREATED:20211128T114448Z
LAST-MODIFIED:20211128T114448Z
UID:5457-1640424600-1640431800@www.baptisten-winschoten.nl
SUMMARY:Kerstviering
DESCRIPTION:Kerstviering\, met ds. Hellinga
URL:https://www.baptisten-winschoten.nl/item/kerstviering/
LOCATION:Kerkgebouw\, Azaleastraat 16A\, Winschoten\, Nederland
CATEGORIES:Christelijke feestdag,Diensten / Bijeenkomsten
END:VEVENT
BEGIN:VEVENT
DTSTART;TZID=Europe/Helsinki:20211226T093000
DTEND;TZID=Europe/Helsinki:20211226T110000
DTSTAMP:20260425T162517
CREATED:20211128T114845Z
LAST-MODIFIED:20220127T155601Z
UID:5466-1640511000-1640516400@www.baptisten-winschoten.nl
SUMMARY:Dienst via livestream
DESCRIPTION:Dienst\, met ds. Hellinga
URL:https://www.baptisten-winschoten.nl/item/dienst-via-livestream-5/
LOCATION:Kerkgebouw\, Azaleastraat 16A\, Winschoten\, Nederland
CATEGORIES:Diensten / Bijeenkomsten
END:VEVENT
BEGIN:VEVENT
DTSTART;TZID=Europe/Helsinki:20220102T093000
DTEND;TZID=Europe/Helsinki:20220102T110000
DTSTAMP:20260425T162517
CREATED:20220127T155456Z
LAST-MODIFIED:20220127T155517Z
UID:5530-1641115800-1641121200@www.baptisten-winschoten.nl
SUMMARY:Avondmaalsdienst
DESCRIPTION:Avondmaalsdienst \nTijdens de dienst viering van het avondmaal \nOnline dienst via Youtube te volgen:
URL:https://www.baptisten-winschoten.nl/item/avondmaalsdienst-51/
LOCATION:Youtube livestream
CATEGORIES:Diensten / Bijeenkomsten
END:VEVENT
END:VCALENDAR