BEGIN:VCALENDAR
VERSION:2.0
PRODID:-//Baptisten Gemeente Winschoten - ECPv6.15.20//NONSGML v1.0//EN
CALSCALE:GREGORIAN
METHOD:PUBLISH
X-WR-CALNAME:Baptisten Gemeente Winschoten
X-ORIGINAL-URL:https://www.baptisten-winschoten.nl
X-WR-CALDESC:Evenementen voor Baptisten Gemeente Winschoten
REFRESH-INTERVAL;VALUE=DURATION:PT1H
X-Robots-Tag:noindex
X-PUBLISHED-TTL:PT1H
BEGIN:VTIMEZONE
TZID:UTC
BEGIN:STANDARD
TZOFFSETFROM:+0000
TZOFFSETTO:+0000
TZNAME:UTC
DTSTART:20140101T000000
END:STANDARD
END:VTIMEZONE
BEGIN:VEVENT
DTSTART;TZID=UTC:20160113T140000
DTEND;TZID=UTC:20160113T150000
DTSTAMP:20260423T230454
CREATED:20151229T095219Z
LAST-MODIFIED:20151229T095219Z
UID:1730-1452693600-1452697200@www.baptisten-winschoten.nl
SUMMARY:Bestuurlijke raadsvergadering
DESCRIPTION:Bestuurlijke raadsvergadering
URL:https://www.baptisten-winschoten.nl/item/bestuurlijke-raadsvergadering-9/
LOCATION:Kerkgebouw\, Azaleastraat 16A\, Winschoten\, Nederland
CATEGORIES:Gemeente activiteiten
END:VEVENT
BEGIN:VEVENT
DTSTART;TZID=UTC:20160113T130000
DTEND;TZID=UTC:20160113T140000
DTSTAMP:20260423T230454
CREATED:20151229T095127Z
LAST-MODIFIED:20151229T095127Z
UID:1729-1452690000-1452693600@www.baptisten-winschoten.nl
SUMMARY:Vergadering dagelijks bestuur
DESCRIPTION:Vergadering dagelijks bestuur
URL:https://www.baptisten-winschoten.nl/item/vergadering-dagelijks-bestuur/
LOCATION:Kerkgebouw\, Azaleastraat 16A\, Winschoten\, Nederland
CATEGORIES:Gemeente activiteiten
END:VEVENT
BEGIN:VEVENT
DTSTART;TZID=UTC:20151216T130000
DTEND;TZID=UTC:20151216T140000
DTSTAMP:20260423T230454
CREATED:20151208T072717Z
LAST-MODIFIED:20151208T072717Z
UID:1697-1450270800-1450274400@www.baptisten-winschoten.nl
SUMMARY:Bestuurlijke raadsvergadering
DESCRIPTION:Bestuurlijke raadsvergadering
URL:https://www.baptisten-winschoten.nl/item/bestuurlijke-raadsvergadering-8/
LOCATION:Kerkgebouw\, Azaleastraat 16A\, Winschoten\, Nederland
CATEGORIES:Gemeente activiteiten
END:VEVENT
BEGIN:VEVENT
DTSTART;TZID=UTC:20151110T193000
DTEND;TZID=UTC:20151110T203000
DTSTAMP:20260423T230454
CREATED:20151101T133005Z
LAST-MODIFIED:20151101T133005Z
UID:1602-1447183800-1447187400@www.baptisten-winschoten.nl
SUMMARY:Bestuurlijke raadsvergadering
DESCRIPTION:Bestuurlijke raadsvergadering
URL:https://www.baptisten-winschoten.nl/item/bestuurlijke-raadsvergadering-7/
LOCATION:Kerkgebouw\, Azaleastraat 16A\, Winschoten\, Nederland
CATEGORIES:Gemeente activiteiten
END:VEVENT
BEGIN:VEVENT
DTSTART;TZID=UTC:20151105T193000
DTEND;TZID=UTC:20151105T210000
DTSTAMP:20260423T230454
CREATED:20151005T154853Z
LAST-MODIFIED:20151005T154853Z
UID:1536-1446751800-1446757200@www.baptisten-winschoten.nl
SUMMARY:Gemeente / najaarsvergadering
DESCRIPTION:Gemeente / najaarsvergadering
URL:https://www.baptisten-winschoten.nl/item/gemeente-najaarsvergadering/
CATEGORIES:Gemeente activiteiten
END:VEVENT
BEGIN:VEVENT
DTSTART;TZID=UTC:20151014T140000
DTEND;TZID=UTC:20151014T150000
DTSTAMP:20260423T230454
CREATED:20151005T154746Z
LAST-MODIFIED:20151005T154746Z
UID:1535-1444831200-1444834800@www.baptisten-winschoten.nl
SUMMARY:Bestuurlijke raadsvergadering
DESCRIPTION:Bestuurlijke raadsvergadering
URL:https://www.baptisten-winschoten.nl/item/bestuurlijke-raadsvergadering-6/
LOCATION:Kerkgebouw\, Azaleastraat 16A\, Winschoten\, Nederland
CATEGORIES:Gemeente activiteiten
END:VEVENT
BEGIN:VEVENT
DTSTART;TZID=UTC:20150910T193000
DTEND;TZID=UTC:20150910T203000
DTSTAMP:20260423T230454
CREATED:20150831T163823Z
LAST-MODIFIED:20150831T163823Z
UID:1441-1441913400-1441917000@www.baptisten-winschoten.nl
SUMMARY:Bestuurlijke raadsvergadering
DESCRIPTION:Bestuurlijke raadsvergadering
URL:https://www.baptisten-winschoten.nl/item/bestuurlijke-raadsvergadering-5/
LOCATION:Kerkgebouw\, Azaleastraat 16A\, Winschoten\, Nederland
CATEGORIES:Gemeente activiteiten
END:VEVENT
BEGIN:VEVENT
DTSTART;TZID=UTC:20150901T193000
DTEND;TZID=UTC:20150901T210000
DTSTAMP:20260423T230454
CREATED:20150701T160632Z
LAST-MODIFIED:20150701T160632Z
UID:1214-1441135800-1441141200@www.baptisten-winschoten.nl
SUMMARY:Bestuurlijke & pastorale raadsvergadering
DESCRIPTION:Bestuurlijke & pastorale raadsvergadering
URL:https://www.baptisten-winschoten.nl/item/bestuurlijke-pastorale-raadsvergadering/
LOCATION:Kerkgebouw\, Azaleastraat 16A\, Winschoten\, Nederland
CATEGORIES:Gemeente activiteiten
END:VEVENT
BEGIN:VEVENT
DTSTART;TZID=UTC:20150708T193000
DTEND;TZID=UTC:20150708T203000
DTSTAMP:20260423T230454
CREATED:20150701T160537Z
LAST-MODIFIED:20150701T160537Z
UID:1213-1436383800-1436387400@www.baptisten-winschoten.nl
SUMMARY:Bestuurlijke raadsvergadering
DESCRIPTION:Bestuurlijke raadsvergadering
URL:https://www.baptisten-winschoten.nl/item/bestuurlijke-raadsvergadering-4/
LOCATION:Kerkgebouw\, Azaleastraat 16A\, Winschoten\, Nederland
CATEGORIES:Gemeente activiteiten
END:VEVENT
BEGIN:VEVENT
DTSTART;VALUE=DATE:20150628
DTEND;VALUE=DATE:20150629
DTSTAMP:20260423T230454
CREATED:20150607T104142Z
LAST-MODIFIED:20150607T104142Z
UID:1184-1435449600-1435535999@www.baptisten-winschoten.nl
SUMMARY:Afsluiting seizoen (fietstocht/picknick)
DESCRIPTION:Afsluiting seizoen (fietstocht/picknick) meer informatie hierover vindt u het maandvenster.
URL:https://www.baptisten-winschoten.nl/item/afsluiting-seizoen-fietstochtpicknick/
CATEGORIES:Gemeente activiteiten
END:VEVENT
BEGIN:VEVENT
DTSTART;TZID=UTC:20150609T193000
DTEND;TZID=UTC:20150609T203000
DTSTAMP:20260423T230454
CREATED:20150607T103918Z
LAST-MODIFIED:20150607T104026Z
UID:1182-1433878200-1433881800@www.baptisten-winschoten.nl
SUMMARY:Bestuurlijke raadsvergadering
DESCRIPTION:Bestuurlijke raadsvergadering
URL:https://www.baptisten-winschoten.nl/item/bestuurlijke-raadsvergadering-3/
LOCATION:Kerkgebouw\, Azaleastraat 16A\, Winschoten\, Nederland
CATEGORIES:Gemeente activiteiten
END:VEVENT
BEGIN:VEVENT
DTSTART;TZID=UTC:20150521T193000
DTEND;TZID=UTC:20150521T210000
DTSTAMP:20260423T230454
CREATED:20150426T120236Z
LAST-MODIFIED:20150426T120236Z
UID:1114-1432236600-1432242000@www.baptisten-winschoten.nl
SUMMARY:Gemeentevergadering
DESCRIPTION:Gemeentevergadering ter voorbereiding op de AV (=30 mei te Sneek)
URL:https://www.baptisten-winschoten.nl/item/gemeentevergadering/
CATEGORIES:Gemeente activiteiten
END:VEVENT
BEGIN:VEVENT
DTSTART;TZID=UTC:20150507T193000
DTEND;TZID=UTC:20150507T203000
DTSTAMP:20260423T230454
CREATED:20150426T115941Z
LAST-MODIFIED:20150426T115941Z
UID:1111-1431027000-1431030600@www.baptisten-winschoten.nl
SUMMARY:Bestuurlijke raadsvergadering
DESCRIPTION:Bestuurlijke raadsvergadering
URL:https://www.baptisten-winschoten.nl/item/bestuurlijke-raadsvergadering-2/
CATEGORIES:Gemeente activiteiten
END:VEVENT
BEGIN:VEVENT
DTSTART;TZID=UTC:20150408T100000
DTEND;TZID=UTC:20150408T110000
DTSTAMP:20260423T230454
CREATED:20150405T101840Z
LAST-MODIFIED:20150405T101840Z
UID:1010-1428487200-1428490800@www.baptisten-winschoten.nl
SUMMARY:Bestuurlijke raadsvergadering
DESCRIPTION:Bestuurlijke raadsvergadering
URL:https://www.baptisten-winschoten.nl/item/bestuurlijke-raadsvergadering/
LOCATION:Kerkgebouw\, Azaleastraat 16A\, Winschoten\, Nederland
CATEGORIES:Gemeente activiteiten
END:VEVENT
BEGIN:VEVENT
DTSTART;TZID=UTC:20150326T193000
DTEND;TZID=UTC:20150326T213000
DTSTAMP:20260423T230454
CREATED:20150310T193357Z
LAST-MODIFIED:20150310T193357Z
UID:703-1427398200-1427405400@www.baptisten-winschoten.nl
SUMMARY:Jaarvergadering voor leden
DESCRIPTION:Jaarvergadering voor leden van de gemeente.
URL:https://www.baptisten-winschoten.nl/item/jaarvergadering-voor-leden/
LOCATION:Kerkgebouw\, Azaleastraat 16A\, Winschoten\, Nederland
CATEGORIES:Gemeente activiteiten
END:VEVENT
END:VCALENDAR