BEGIN:VCALENDAR
VERSION:2.0
PRODID:-//Baptisten Gemeente Winschoten - ECPv6.15.20//NONSGML v1.0//EN
CALSCALE:GREGORIAN
METHOD:PUBLISH
X-WR-CALNAME:Baptisten Gemeente Winschoten
X-ORIGINAL-URL:https://www.baptisten-winschoten.nl
X-WR-CALDESC:Evenementen voor Baptisten Gemeente Winschoten
REFRESH-INTERVAL;VALUE=DURATION:PT1H
X-Robots-Tag:noindex
X-PUBLISHED-TTL:PT1H
BEGIN:VTIMEZONE
TZID:UTC
BEGIN:STANDARD
TZOFFSETFROM:+0000
TZOFFSETTO:+0000
TZNAME:UTC
DTSTART:20170101T000000
END:STANDARD
END:VTIMEZONE
BEGIN:VEVENT
DTSTART;TZID=UTC:20200104T190000
DTEND;TZID=UTC:20200104T200000
DTSTAMP:20260421T125746
CREATED:20200107T165406Z
LAST-MODIFIED:20200107T165406Z
UID:4723-1578164400-1578168000@www.baptisten-winschoten.nl
SUMMARY:Avondgebed
DESCRIPTION:Avondgebed
URL:https://www.baptisten-winschoten.nl/item/avondgebed-12/
LOCATION:Kerkgebouw\, Azaleastraat 16A\, Winschoten\, Nederland
CATEGORIES:Gemeente activiteiten
END:VEVENT
BEGIN:VEVENT
DTSTART;TZID=UTC:20191218T143000
DTEND;TZID=UTC:20191218T160000
DTSTAMP:20260421T125746
CREATED:20191216T171145Z
LAST-MODIFIED:20191216T171145Z
UID:4702-1576679400-1576684800@www.baptisten-winschoten.nl
SUMMARY:Senioren middag
DESCRIPTION:Senioren middag
URL:https://www.baptisten-winschoten.nl/item/senioren-middag-4/
LOCATION:Kerkgebouw\, Azaleastraat 16A\, Winschoten\, Nederland
CATEGORIES:Gemeente activiteiten
END:VEVENT
BEGIN:VEVENT
DTSTART;TZID=UTC:20191215T093000
DTEND;TZID=UTC:20191215T110000
DTSTAMP:20260421T125746
CREATED:20191209T164627Z
LAST-MODIFIED:20191209T164627Z
UID:4677-1576402200-1576407600@www.baptisten-winschoten.nl
SUMMARY:Dienst (3de Advent)
DESCRIPTION:Dienst (3de Advent) met br. J. Hofman \nNa de dienst koffie drinken.
URL:https://www.baptisten-winschoten.nl/item/dienst-3de-advent-2/
LOCATION:Kerkgebouw\, Azaleastraat 16A\, Winschoten\, Nederland
CATEGORIES:Gemeente activiteiten
END:VEVENT
BEGIN:VEVENT
DTSTART;TZID=UTC:20191128T193000
DTEND;TZID=UTC:20191128T200000
DTSTAMP:20260421T125746
CREATED:20191124T175638Z
LAST-MODIFIED:20191124T175638Z
UID:4650-1574969400-1574971200@www.baptisten-winschoten.nl
SUMMARY:Bestuurlijke raadsvergadering
DESCRIPTION:Bestuurlijke raadsvergadering
URL:https://www.baptisten-winschoten.nl/item/bestuurlijke-raadsvergadering-29/
LOCATION:Kerkgebouw\, Azaleastraat 16A\, Winschoten\, Nederland
CATEGORIES:Gemeente activiteiten
END:VEVENT
BEGIN:VEVENT
DTSTART;TZID=UTC:20191120T193000
DTEND;TZID=UTC:20191120T203000
DTSTAMP:20260421T125746
CREATED:20191118T170458Z
LAST-MODIFIED:20191118T170458Z
UID:4636-1574278200-1574281800@www.baptisten-winschoten.nl
SUMMARY:Interkerkelijke gebedsbijeenkomst IKEP
DESCRIPTION:Interkerkelijke gebedsbijeenkomst IKEP
URL:https://www.baptisten-winschoten.nl/item/interkerkelijke-gebedsbijeenkomst-ikep/
CATEGORIES:Gemeente activiteiten
END:VEVENT
BEGIN:VEVENT
DTSTART;TZID=UTC:20191120T143000
DTEND;TZID=UTC:20191120T160000
DTSTAMP:20260421T125746
CREATED:20191118T170419Z
LAST-MODIFIED:20191118T170419Z
UID:4634-1574260200-1574265600@www.baptisten-winschoten.nl
SUMMARY:Senioren middag
DESCRIPTION:Senioren middag
URL:https://www.baptisten-winschoten.nl/item/senioren-middag-3/
LOCATION:Kerkgebouw\, Azaleastraat 16A\, Winschoten\, Nederland
CATEGORIES:Gemeente activiteiten
END:VEVENT
BEGIN:VEVENT
DTSTART;TZID=UTC:20191107T193000
DTEND;TZID=UTC:20191107T210000
DTSTAMP:20260421T125746
CREATED:20191013T073647Z
LAST-MODIFIED:20191013T073647Z
UID:4560-1573155000-1573160400@www.baptisten-winschoten.nl
SUMMARY:Najaarsvergadering
DESCRIPTION:Najaarsvergadering
URL:https://www.baptisten-winschoten.nl/item/najaarsvergadering/
LOCATION:Kerkgebouw\, Azaleastraat 16A\, Winschoten\, Nederland
CATEGORIES:Gemeente activiteiten
END:VEVENT
BEGIN:VEVENT
DTSTART;TZID=UTC:20191014T193000
DTEND;TZID=UTC:20191014T203000
DTSTAMP:20260421T125746
CREATED:20191013T073329Z
LAST-MODIFIED:20191013T073329Z
UID:4552-1571081400-1571085000@www.baptisten-winschoten.nl
SUMMARY:Pastorale raadsvergadering
DESCRIPTION:Pastorale raadsvergadering
URL:https://www.baptisten-winschoten.nl/item/pastorale-raadsvergadering-12/
CATEGORIES:Gemeente activiteiten
END:VEVENT
BEGIN:VEVENT
DTSTART;TZID=UTC:20190831T190000
DTEND;TZID=UTC:20190831T200000
DTSTAMP:20260421T125746
CREATED:20190828T160952Z
LAST-MODIFIED:20190828T160952Z
UID:4486-1567278000-1567281600@www.baptisten-winschoten.nl
SUMMARY:Avondgebed
DESCRIPTION:Avondgebed
URL:https://www.baptisten-winschoten.nl/item/avondgebed-10/
LOCATION:Kerkgebouw\, Azaleastraat 16A\, Winschoten\, Nederland
CATEGORIES:Gemeente activiteiten
END:VEVENT
BEGIN:VEVENT
DTSTART;TZID=UTC:20190606T193000
DTEND;TZID=UTC:20190606T203000
DTSTAMP:20260421T125746
CREATED:20190602T160850Z
LAST-MODIFIED:20190602T160850Z
UID:4314-1559849400-1559853000@www.baptisten-winschoten.nl
SUMMARY:Bestuurlijke raadsvergadering
DESCRIPTION:Bestuurlijke raadsvergadering
URL:https://www.baptisten-winschoten.nl/item/bestuurlijke-raadsvergadering-28/
LOCATION:Kerkgebouw\, Azaleastraat 16A\, Winschoten\, Nederland
CATEGORIES:Gemeente activiteiten
END:VEVENT
BEGIN:VEVENT
DTSTART;TZID=UTC:20190506T193000
DTEND;TZID=UTC:20190506T203000
DTSTAMP:20260421T125746
CREATED:20190505T160113Z
LAST-MODIFIED:20190505T160113Z
UID:4240-1557171000-1557174600@www.baptisten-winschoten.nl
SUMMARY:Pastorale en bestuurlijke raadsvergadering
DESCRIPTION:Pastorale en bestuurlijke raadsvergadering
URL:https://www.baptisten-winschoten.nl/item/pastorale-en-bestuurlijke-raadsvergadering/
LOCATION:Kerkgebouw\, Azaleastraat 16A\, Winschoten\, Nederland
CATEGORIES:Gemeente activiteiten
END:VEVENT
BEGIN:VEVENT
DTSTART;TZID=UTC:20190504T103000
DTEND;TZID=UTC:20190504T120000
DTSTAMP:20260421T125746
CREATED:20190428T150519Z
LAST-MODIFIED:20190428T150519Z
UID:4198-1556965800-1556971200@www.baptisten-winschoten.nl
SUMMARY:Koffieochtend voor de wijkcontactpersonen
DESCRIPTION:Koffieochtend voor de wijkcontactpersonen
URL:https://www.baptisten-winschoten.nl/item/koffieochtend-voor-de-wijkcontactpersonen/
LOCATION:Kerkgebouw\, Azaleastraat 16A\, Winschoten\, Nederland
CATEGORIES:Gemeente activiteiten
END:VEVENT
BEGIN:VEVENT
DTSTART;TZID=UTC:20190424T193000
DTEND;TZID=UTC:20190424T203000
DTSTAMP:20260421T125746
CREATED:20190418T122320Z
LAST-MODIFIED:20190418T122320Z
UID:4161-1556134200-1556137800@www.baptisten-winschoten.nl
SUMMARY:Pastorale raadsvergadering
DESCRIPTION:Pastorale raadsvergadering bij zr. Mengedoth
URL:https://www.baptisten-winschoten.nl/item/pastorale-raadsvergadering-11/
CATEGORIES:Gemeente activiteiten
END:VEVENT
BEGIN:VEVENT
DTSTART;TZID=UTC:20190320T193000
DTEND;TZID=UTC:20190320T210000
DTSTAMP:20260421T125746
CREATED:20190313T154257Z
LAST-MODIFIED:20190313T154257Z
UID:4098-1553110200-1553115600@www.baptisten-winschoten.nl
SUMMARY:Pastorale raadsvergadering
DESCRIPTION:Pastorale raadsvergadering\, bij zr. A. Warntjes
URL:https://www.baptisten-winschoten.nl/item/pastorale-raadsvergadering-10/
CATEGORIES:Gemeente activiteiten
END:VEVENT
BEGIN:VEVENT
DTSTART;TZID=UTC:20190306T193000
DTEND;TZID=UTC:20190306T210000
DTSTAMP:20260421T125746
CREATED:20190313T154010Z
LAST-MODIFIED:20190313T154010Z
UID:4090-1551900600-1551906000@www.baptisten-winschoten.nl
SUMMARY:Bestuurlijke raadsvergadering
DESCRIPTION:Bestuurlijke raadsvergadering
URL:https://www.baptisten-winschoten.nl/item/bestuurlijke-raadsvergadering-27/
LOCATION:Kerkgebouw\, Azaleastraat 16A\, Winschoten\, Nederland
CATEGORIES:Gemeente activiteiten
END:VEVENT
BEGIN:VEVENT
DTSTART;TZID=UTC:20190130T193000
DTEND;TZID=UTC:20190130T203000
DTSTAMP:20260421T125746
CREATED:20190114T171919Z
LAST-MODIFIED:20190114T171919Z
UID:4065-1548876600-1548880200@www.baptisten-winschoten.nl
SUMMARY:Pastorale raadsvergadering
DESCRIPTION:Pastorale raadsvergadering
URL:https://www.baptisten-winschoten.nl/item/pastorale-raadsvergadering-9/
LOCATION:Kerkgebouw\, Azaleastraat 16A\, Winschoten\, Nederland
CATEGORIES:Gemeente activiteiten
END:VEVENT
BEGIN:VEVENT
DTSTART;TZID=UTC:20190119T190000
DTEND;TZID=UTC:20190119T200000
DTSTAMP:20260421T125746
CREATED:20190114T171654Z
LAST-MODIFIED:20190114T171654Z
UID:4059-1547924400-1547928000@www.baptisten-winschoten.nl
SUMMARY:Avondgebed
DESCRIPTION:Avondgebed
URL:https://www.baptisten-winschoten.nl/item/avondgebed-9/
LOCATION:Kerkgebouw\, Azaleastraat 16A\, Winschoten\, Nederland
CATEGORIES:Gemeente activiteiten
END:VEVENT
BEGIN:VEVENT
DTSTART;TZID=UTC:20190116T143000
DTEND;TZID=UTC:20190116T160000
DTSTAMP:20260421T125746
CREATED:20190114T171619Z
LAST-MODIFIED:20190114T171619Z
UID:4057-1547649000-1547654400@www.baptisten-winschoten.nl
SUMMARY:Seniorengroep
DESCRIPTION:Seniorengroep
URL:https://www.baptisten-winschoten.nl/item/seniorengroep-2/
LOCATION:Kerkgebouw\, Azaleastraat 16A\, Winschoten\, Nederland
CATEGORIES:Gemeente activiteiten
END:VEVENT
BEGIN:VEVENT
DTSTART;TZID=UTC:20181206T193000
DTEND;TZID=UTC:20181206T203000
DTSTAMP:20260421T125746
CREATED:20181203T174349Z
LAST-MODIFIED:20181203T174349Z
UID:3984-1544124600-1544128200@www.baptisten-winschoten.nl
SUMMARY:Pastorale raadsvergadering
DESCRIPTION:Pastorale raadsvergadering bij fam. S. van der Laan
URL:https://www.baptisten-winschoten.nl/item/pastorale-raadsvergadering-8/
CATEGORIES:Gemeente activiteiten
END:VEVENT
BEGIN:VEVENT
DTSTART;TZID=UTC:20181124T190000
DTEND;TZID=UTC:20181124T200000
DTSTAMP:20260421T125746
CREATED:20181116T162941Z
LAST-MODIFIED:20181116T162941Z
UID:3966-1543086000-1543089600@www.baptisten-winschoten.nl
SUMMARY:Avondgebed
DESCRIPTION:Avondgebed
URL:https://www.baptisten-winschoten.nl/item/avondgebed-7/
LOCATION:Kerkgebouw\, Azaleastraat 16A\, Winschoten\, Nederland
CATEGORIES:Gemeente activiteiten
END:VEVENT
BEGIN:VEVENT
DTSTART;TZID=UTC:20181121T143000
DTEND;TZID=UTC:20181121T160000
DTSTAMP:20260421T125746
CREATED:20181116T163116Z
LAST-MODIFIED:20181116T163116Z
UID:3971-1542810600-1542816000@www.baptisten-winschoten.nl
SUMMARY:Seniorenmiddag
DESCRIPTION:Seniorenmiddag
URL:https://www.baptisten-winschoten.nl/item/seniorenmiddag-8/
LOCATION:Kerkgebouw\, Azaleastraat 16A\, Winschoten\, Nederland
CATEGORIES:Gemeente activiteiten
END:VEVENT
BEGIN:VEVENT
DTSTART;TZID=UTC:20181117T190000
DTEND;TZID=UTC:20181117T200000
DTSTAMP:20260421T125746
CREATED:20181116T162910Z
LAST-MODIFIED:20181116T162910Z
UID:3964-1542481200-1542484800@www.baptisten-winschoten.nl
SUMMARY:Avondgebed
DESCRIPTION:Avondgebed
URL:https://www.baptisten-winschoten.nl/item/avondgebed-6/
LOCATION:Kerkgebouw\, Azaleastraat 16A\, Winschoten\, Nederland
CATEGORIES:Gemeente activiteiten
END:VEVENT
BEGIN:VEVENT
DTSTART;TZID=UTC:20181115T193000
DTEND;TZID=UTC:20181115T213000
DTSTAMP:20260421T125746
CREATED:20181116T163030Z
LAST-MODIFIED:20181116T163030Z
UID:3969-1542310200-1542317400@www.baptisten-winschoten.nl
SUMMARY:Gemeente-/najaarsvergadering
DESCRIPTION:Gemeente-/najaarsvergadering\, alleen voor leden
URL:https://www.baptisten-winschoten.nl/item/gemeente-najaarsvergadering-2/
LOCATION:Kerkgebouw\, Azaleastraat 16A\, Winschoten\, Nederland
CATEGORIES:Gemeente activiteiten
END:VEVENT
BEGIN:VEVENT
DTSTART;TZID=UTC:20181101T193000
DTEND;TZID=UTC:20181101T203000
DTSTAMP:20260421T125746
CREATED:20181007T105458Z
LAST-MODIFIED:20181007T105458Z
UID:3930-1541100600-1541104200@www.baptisten-winschoten.nl
SUMMARY:Bestuurlijke raadsvergadering
DESCRIPTION:Bestuurlijke raadsvergadering
URL:https://www.baptisten-winschoten.nl/item/bestuurlijke-raadsvergadering-26/
LOCATION:Kerkgebouw\, Azaleastraat 16A\, Winschoten\, Nederland
CATEGORIES:Gemeente activiteiten
END:VEVENT
BEGIN:VEVENT
DTSTART;TZID=UTC:20181010T193000
DTEND;TZID=UTC:20181010T203000
DTSTAMP:20260421T125746
CREATED:20181007T104940Z
LAST-MODIFIED:20181007T104940Z
UID:3922-1539199800-1539203400@www.baptisten-winschoten.nl
SUMMARY:Pastorale raadsvergadering
DESCRIPTION:Pastorale raadsvergadering bij zr. A. Warntjes
URL:https://www.baptisten-winschoten.nl/item/pastorale-raadsvergadering-7/
CATEGORIES:Gemeente activiteiten
END:VEVENT
BEGIN:VEVENT
DTSTART;TZID=UTC:20180827T193000
DTEND;TZID=UTC:20180827T203000
DTSTAMP:20260421T125746
CREATED:20180711T155334Z
LAST-MODIFIED:20180711T155334Z
UID:3823-1535398200-1535401800@www.baptisten-winschoten.nl
SUMMARY:Bestuurlijke raadsvergadering
DESCRIPTION:Bestuurlijke raadsvergadering
URL:https://www.baptisten-winschoten.nl/item/bestuurlijke-raadsvergadering-25/
LOCATION:Kerkgebouw\, Azaleastraat 16A\, Winschoten\, Nederland
CATEGORIES:Gemeente activiteiten
END:VEVENT
BEGIN:VEVENT
DTSTART;TZID=UTC:20180808T193000
DTEND;TZID=UTC:20180808T203000
DTSTAMP:20260421T125746
CREATED:20180711T155013Z
LAST-MODIFIED:20180711T155013Z
UID:3813-1533756600-1533760200@www.baptisten-winschoten.nl
SUMMARY:Pastorale raadsvergadering
DESCRIPTION:Pastorale raadsvergadering bij zr. Gent
URL:https://www.baptisten-winschoten.nl/item/pastorale-raadsvergadering-6/
CATEGORIES:Gemeente activiteiten
END:VEVENT
BEGIN:VEVENT
DTSTART;TZID=UTC:20180708T093000
DTEND;TZID=UTC:20180708T110000
DTSTAMP:20260421T125746
CREATED:20180711T154300Z
LAST-MODIFIED:20180711T154300Z
UID:3796-1531042200-1531047600@www.baptisten-winschoten.nl
SUMMARY:Dienst
DESCRIPTION:Dienst\, met br. T. Tolsma \nNa de dienst koffie drinken
URL:https://www.baptisten-winschoten.nl/item/dienst-118/
LOCATION:Kerkgebouw\, Azaleastraat 16A\, Winschoten\, Nederland
CATEGORIES:Gemeente activiteiten
END:VEVENT
BEGIN:VEVENT
DTSTART;TZID=UTC:20180702T193000
DTEND;TZID=UTC:20180702T203000
DTSTAMP:20260421T125746
CREATED:20180711T154405Z
LAST-MODIFIED:20180711T154405Z
UID:3800-1530559800-1530563400@www.baptisten-winschoten.nl
SUMMARY:Bestuurlijke raadsvergadering
DESCRIPTION:Bestuurlijke raadsvergadering
URL:https://www.baptisten-winschoten.nl/item/bestuurlijke-raadsvergadering-24/
LOCATION:Kerkgebouw\, Azaleastraat 16A\, Winschoten\, Nederland
CATEGORIES:Gemeente activiteiten
END:VEVENT
BEGIN:VEVENT
DTSTART;TZID=UTC:20180606T193000
DTEND;TZID=UTC:20180606T210000
DTSTAMP:20260421T125746
CREATED:20180605T171417Z
LAST-MODIFIED:20180605T171417Z
UID:3713-1528313400-1528318800@www.baptisten-winschoten.nl
SUMMARY:Pastorale raadsvergadering
DESCRIPTION:Pastorale raadsvergadering bij br. D. Bijmolt
URL:https://www.baptisten-winschoten.nl/item/pastorale-raadsvergadering-5/
CATEGORIES:Gemeente activiteiten
END:VEVENT
END:VCALENDAR