BEGIN:VCALENDAR
VERSION:2.0
PRODID:-//Baptisten Gemeente Winschoten - ECPv6.15.20//NONSGML v1.0//EN
CALSCALE:GREGORIAN
METHOD:PUBLISH
X-WR-CALNAME:Baptisten Gemeente Winschoten
X-ORIGINAL-URL:https://www.baptisten-winschoten.nl
X-WR-CALDESC:Evenementen voor Baptisten Gemeente Winschoten
REFRESH-INTERVAL;VALUE=DURATION:PT1H
X-Robots-Tag:noindex
X-PUBLISHED-TTL:PT1H
BEGIN:VTIMEZONE
TZID:UTC
BEGIN:STANDARD
TZOFFSETFROM:+0000
TZOFFSETTO:+0000
TZNAME:UTC
DTSTART:20150101T000000
END:STANDARD
END:VTIMEZONE
BEGIN:VEVENT
DTSTART;TZID=UTC:20171213T193000
DTEND;TZID=UTC:20171213T210000
DTSTAMP:20260423T164452
CREATED:20171211T173114Z
LAST-MODIFIED:20171211T173114Z
UID:3319-1513193400-1513198800@www.baptisten-winschoten.nl
SUMMARY:Bestuurlijke raadsvergadering
DESCRIPTION:Bestuurlijke raadsvergadering
URL:https://www.baptisten-winschoten.nl/item/bestuurlijke-raadsvergadering-19/
LOCATION:Kerkgebouw\, Azaleastraat 16A\, Winschoten\, Nederland
CATEGORIES:Gemeente activiteiten
END:VEVENT
BEGIN:VEVENT
DTSTART;VALUE=DATE:20171209
DTEND;VALUE=DATE:20171210
DTSTAMP:20260423T164452
CREATED:20171205T153404Z
LAST-MODIFIED:20171205T153404Z
UID:3284-1512777600-1512863999@www.baptisten-winschoten.nl
SUMMARY:Kerstmarkt
DESCRIPTION:Kerstmarkt \nVoor het project Botosani Roemenië organiseren we zaterdag 9 december een kerstmarkt in de kerk.
URL:https://www.baptisten-winschoten.nl/item/kerstmarkt/
LOCATION:Kerkgebouw\, Azaleastraat 16A\, Winschoten\, Nederland
CATEGORIES:Gemeente activiteiten
END:VEVENT
BEGIN:VEVENT
DTSTART;TZID=UTC:20171115T143000
DTEND;TZID=UTC:20171115T163000
DTSTAMP:20260423T164452
CREATED:20171109T151516Z
LAST-MODIFIED:20171109T151516Z
UID:3223-1510756200-1510763400@www.baptisten-winschoten.nl
SUMMARY:Seniorenmiddag
DESCRIPTION:Seniorenmiddag
URL:https://www.baptisten-winschoten.nl/item/seniorenmiddag-6/
LOCATION:Kerkgebouw\, Azaleastraat 16A\, Winschoten\, Nederland
CATEGORIES:Gemeente activiteiten
END:VEVENT
BEGIN:VEVENT
DTSTART;TZID=UTC:20171113T193000
DTEND;TZID=UTC:20171113T203000
DTSTAMP:20260423T164452
CREATED:20171109T151438Z
LAST-MODIFIED:20171109T151438Z
UID:3220-1510601400-1510605000@www.baptisten-winschoten.nl
SUMMARY:Pastorale raadsvergadering
DESCRIPTION:Pastorale raadsvergadering bij zr. Germeraad
URL:https://www.baptisten-winschoten.nl/item/pastorale-raadsvergadering-3/
CATEGORIES:Gemeente activiteiten
END:VEVENT
BEGIN:VEVENT
DTSTART;TZID=UTC:20171109T193000
DTEND;TZID=UTC:20171109T220000
DTSTAMP:20260423T164452
CREATED:20171109T151107Z
LAST-MODIFIED:20171109T151107Z
UID:3211-1510255800-1510264800@www.baptisten-winschoten.nl
SUMMARY:Najaarsvergadering voor leden
DESCRIPTION:Najaarsvergadering voor leden
URL:https://www.baptisten-winschoten.nl/item/najaarsvergadering-voor-leden/
LOCATION:Kerkgebouw\, Azaleastraat 16A\, Winschoten\, Nederland
CATEGORIES:Gemeente activiteiten
END:VEVENT
BEGIN:VEVENT
DTSTART;TZID=UTC:20171018T143000
DTEND;TZID=UTC:20171018T153000
DTSTAMP:20260423T164452
CREATED:20171009T154524Z
LAST-MODIFIED:20171009T154524Z
UID:3132-1508337000-1508340600@www.baptisten-winschoten.nl
SUMMARY:Seniorenmiddag
DESCRIPTION:Seniorenmiddag
URL:https://www.baptisten-winschoten.nl/item/seniorenmiddag-5/
LOCATION:Kerkgebouw\, Azaleastraat 16A\, Winschoten\, Nederland
CATEGORIES:Gemeente activiteiten
END:VEVENT
BEGIN:VEVENT
DTSTART;TZID=UTC:20171012T193000
DTEND;TZID=UTC:20171012T213000
DTSTAMP:20260423T164452
CREATED:20171009T154444Z
LAST-MODIFIED:20171009T154444Z
UID:3129-1507836600-1507843800@www.baptisten-winschoten.nl
SUMMARY:Gemeenteavond
DESCRIPTION:Gemeenteavond
URL:https://www.baptisten-winschoten.nl/item/gemeenteavond-2/
LOCATION:Kerkgebouw\, Azaleastraat 16A\, Winschoten\, Nederland
CATEGORIES:Gemeente activiteiten
END:VEVENT
BEGIN:VEVENT
DTSTART;TZID=UTC:20171009T193000
DTEND;TZID=UTC:20171009T203000
DTSTAMP:20260423T164452
CREATED:20171009T154322Z
LAST-MODIFIED:20171009T154322Z
UID:3123-1507577400-1507581000@www.baptisten-winschoten.nl
SUMMARY:Bestuurlijke raadsvergadering
DESCRIPTION:Bestuurlijke raadsvergadering
URL:https://www.baptisten-winschoten.nl/item/bestuurlijke-raadsvergadering-18/
LOCATION:Kerkgebouw\, Azaleastraat 16A\, Winschoten\, Nederland
CATEGORIES:Gemeente activiteiten
END:VEVENT
BEGIN:VEVENT
DTSTART;TZID=UTC:20170920T143000
DTEND;TZID=UTC:20170920T163000
DTSTAMP:20260423T164452
CREATED:20170919T151201Z
LAST-MODIFIED:20170919T151201Z
UID:2924-1505917800-1505925000@www.baptisten-winschoten.nl
SUMMARY:Seniorenmiddag
DESCRIPTION:Seniorenmiddag
URL:https://www.baptisten-winschoten.nl/item/seniorenmiddag-4/
CATEGORIES:Gemeente activiteiten
END:VEVENT
BEGIN:VEVENT
DTSTART;TZID=UTC:20170904T193000
DTEND;TZID=UTC:20170904T203000
DTSTAMP:20260423T164452
CREATED:20170919T150922Z
LAST-MODIFIED:20170919T150922Z
UID:2914-1504553400-1504557000@www.baptisten-winschoten.nl
SUMMARY:Bestuurlijke & pastorale raadsvergadering
DESCRIPTION:Bestuurlijke & pastorale raadsvergadering
URL:https://www.baptisten-winschoten.nl/item/bestuurlijke-pastorale-raadsvergadering-3/
LOCATION:Kerkgebouw\, Azaleastraat 16A\, Winschoten\, Nederland
CATEGORIES:Gemeente activiteiten
END:VEVENT
BEGIN:VEVENT
DTSTART;TZID=UTC:20170902T190000
DTEND;TZID=UTC:20170902T200000
DTSTAMP:20260423T164452
CREATED:20170711T124823Z
LAST-MODIFIED:20170711T124823Z
UID:2867-1504378800-1504382400@www.baptisten-winschoten.nl
SUMMARY:Avondgebed
DESCRIPTION:Avondgebed
URL:https://www.baptisten-winschoten.nl/item/avondgebed-5/
LOCATION:Kerkgebouw\, Azaleastraat 16A\, Winschoten\, Nederland
CATEGORIES:Gemeente activiteiten
END:VEVENT
BEGIN:VEVENT
DTSTART;TZID=UTC:20170826T190000
DTEND;TZID=UTC:20170826T200000
DTSTAMP:20260423T164452
CREATED:20170711T124436Z
LAST-MODIFIED:20170711T124436Z
UID:2854-1503774000-1503777600@www.baptisten-winschoten.nl
SUMMARY:Avondgebed
DESCRIPTION:Avondgebed
URL:https://www.baptisten-winschoten.nl/item/avondgebed-4/
LOCATION:Kerkgebouw\, Azaleastraat 16A\, Winschoten\, Nederland
CATEGORIES:Gemeente activiteiten
END:VEVENT
BEGIN:VEVENT
DTSTART;TZID=UTC:20170819T190000
DTEND;TZID=UTC:20170819T200000
DTSTAMP:20260423T164452
CREATED:20170711T124352Z
LAST-MODIFIED:20170711T124352Z
UID:2851-1503169200-1503172800@www.baptisten-winschoten.nl
SUMMARY:Avondgebed
DESCRIPTION:Avondgebed
URL:https://www.baptisten-winschoten.nl/item/avondgebed-3/
LOCATION:Kerkgebouw\, Azaleastraat 16A\, Winschoten\, Nederland
CATEGORIES:Gemeente activiteiten
END:VEVENT
BEGIN:VEVENT
DTSTART;TZID=UTC:20170812T190000
DTEND;TZID=UTC:20170812T200000
DTSTAMP:20260423T164452
CREATED:20170711T124213Z
LAST-MODIFIED:20170711T124213Z
UID:2845-1502564400-1502568000@www.baptisten-winschoten.nl
SUMMARY:Avondgebed
DESCRIPTION:Avondgebed
URL:https://www.baptisten-winschoten.nl/item/avondgebed-2/
LOCATION:Kerkgebouw\, Azaleastraat 16A\, Winschoten\, Nederland
CATEGORIES:Gemeente activiteiten
END:VEVENT
BEGIN:VEVENT
DTSTART;TZID=UTC:20170805T190000
DTEND;TZID=UTC:20170805T200000
DTSTAMP:20260423T164452
CREATED:20170711T124140Z
LAST-MODIFIED:20170711T124140Z
UID:2842-1501959600-1501963200@www.baptisten-winschoten.nl
SUMMARY:Avondgebed
DESCRIPTION:Avondgebed
URL:https://www.baptisten-winschoten.nl/item/avondgebed/
LOCATION:Kerkgebouw\, Azaleastraat 16A\, Winschoten\, Nederland
CATEGORIES:Gemeente activiteiten
END:VEVENT
BEGIN:VEVENT
DTSTART;TZID=UTC:20170717T193000
DTEND;TZID=UTC:20170717T203000
DTSTAMP:20260423T164452
CREATED:20170711T123717Z
LAST-MODIFIED:20170711T123717Z
UID:2829-1500319800-1500323400@www.baptisten-winschoten.nl
SUMMARY:Bestuurlijke raadsvergadering
DESCRIPTION:Bestuurlijke raadsvergadering
URL:https://www.baptisten-winschoten.nl/item/bestuurlijke-raadsvergadering-17/
LOCATION:Kerkgebouw\, Azaleastraat 16A\, Winschoten\, Nederland
CATEGORIES:Gemeente activiteiten
END:VEVENT
BEGIN:VEVENT
DTSTART;TZID=UTC:20170625T143000
DTEND;TZID=UTC:20170625T170000
DTSTAMP:20260423T164452
CREATED:20170606T123206Z
LAST-MODIFIED:20170606T123206Z
UID:2763-1498401000-1498410000@www.baptisten-winschoten.nl
SUMMARY:Doopdienst
DESCRIPTION:Doopdienst\, met ds. Smink
URL:https://www.baptisten-winschoten.nl/item/doopdienst-4/
LOCATION:Bellingwolde\, Nederland
CATEGORIES:Diensten / Bijeenkomsten,Gemeente activiteiten
END:VEVENT
BEGIN:VEVENT
DTSTART;TZID=UTC:20170420T093000
DTEND;TZID=UTC:20170420T103000
DTSTAMP:20260423T164452
CREATED:20170409T074307Z
LAST-MODIFIED:20170409T074307Z
UID:2590-1492680600-1492684200@www.baptisten-winschoten.nl
SUMMARY:Gemeentevergadering (t.v.v. A.V.)
DESCRIPTION:Gemeentevergadering ter voorbereiding op de A.V. van de Unie in Kampen 20 Mei.
URL:https://www.baptisten-winschoten.nl/item/gemeentevergadering-t-v-v-a-v/
LOCATION:Kerkgebouw\, Azaleastraat 16A\, Winschoten\, Nederland
CATEGORIES:Gemeente activiteiten
END:VEVENT
BEGIN:VEVENT
DTSTART;TZID=UTC:20170419T143000
DTEND;TZID=UTC:20170419T153000
DTSTAMP:20260423T164452
CREATED:20170409T074158Z
LAST-MODIFIED:20170409T074158Z
UID:2587-1492612200-1492615800@www.baptisten-winschoten.nl
SUMMARY:Seniorenmiddag
DESCRIPTION:Seniorenmiddag
URL:https://www.baptisten-winschoten.nl/item/seniorenmiddag-3/
CATEGORIES:Gemeente activiteiten
END:VEVENT
BEGIN:VEVENT
DTSTART;TZID=UTC:20170410T193000
DTEND;TZID=UTC:20170410T203000
DTSTAMP:20260423T164452
CREATED:20170409T070001Z
LAST-MODIFIED:20170409T070001Z
UID:2553-1491852600-1491856200@www.baptisten-winschoten.nl
SUMMARY:Pastorale raadsvergadering
DESCRIPTION:Pastorale raadsvergadering
URL:https://www.baptisten-winschoten.nl/item/pastorale-raadsvergadering-2/
CATEGORIES:Gemeente activiteiten
END:VEVENT
BEGIN:VEVENT
DTSTART;TZID=UTC:20170316T193000
DTEND;TZID=UTC:20170316T210000
DTSTAMP:20260423T164452
CREATED:20170302T075054Z
LAST-MODIFIED:20170302T075054Z
UID:2476-1489692600-1489698000@www.baptisten-winschoten.nl
SUMMARY:Jaarvergadering
DESCRIPTION:Jaarvergadering
URL:https://www.baptisten-winschoten.nl/item/jaarvergadering/
LOCATION:Kerkgebouw\, Azaleastraat 16A\, Winschoten\, Nederland
CATEGORIES:Gemeente activiteiten
END:VEVENT
BEGIN:VEVENT
DTSTART;TZID=UTC:20170315T143000
DTEND;TZID=UTC:20170315T160000
DTSTAMP:20260423T164452
CREATED:20170302T074924Z
LAST-MODIFIED:20170302T075105Z
UID:2473-1489588200-1489593600@www.baptisten-winschoten.nl
SUMMARY:Seniorenmiddag
DESCRIPTION:Seniorenmiddag
URL:https://www.baptisten-winschoten.nl/item/seniorenmiddag-2/
LOCATION:de Vennekerk\, Venne 150\, Winschoten\, 9671EX
CATEGORIES:Gemeente activiteiten
END:VEVENT
BEGIN:VEVENT
DTSTART;TZID=UTC:20161221T150000
DTEND;TZID=UTC:20161221T170000
DTSTAMP:20260423T164452
CREATED:20161206T160858Z
LAST-MODIFIED:20161206T160858Z
UID:2275-1482332400-1482339600@www.baptisten-winschoten.nl
SUMMARY:Senioren middag
DESCRIPTION:Senioren middag kerstviering
URL:https://www.baptisten-winschoten.nl/item/senioren-middag-2/
LOCATION:Kerkgebouw\, Azaleastraat 16A\, Winschoten\, Nederland
CATEGORIES:Gemeente activiteiten
END:VEVENT
BEGIN:VEVENT
DTSTART;TZID=UTC:20161217T170000
DTEND;TZID=UTC:20161217T200000
DTSTAMP:20260423T164452
CREATED:20161206T160655Z
LAST-MODIFIED:20161211T182649Z
UID:2269-1481994000-1482004800@www.baptisten-winschoten.nl
SUMMARY:Kerst-in
DESCRIPTION:Kerstviering voor iedereen die in de omgeving van de kerk woont en voor alle vrienden en leden van de Baptisten Gemeente Winschoten. Samen soep eten\, een broodje knakworst nuttigen\, kerstliedjes zingen en chocolademelk drinken in en buiten een mooi versierde kerk. Kom allemaal\, de toegang is gratis!
URL:https://www.baptisten-winschoten.nl/item/kerst-in/
LOCATION:Kerkgebouw\, Azaleastraat 16A\, Winschoten\, Nederland
CATEGORIES:Gemeente activiteiten
END:VEVENT
BEGIN:VEVENT
DTSTART;TZID=UTC:20161107T193000
DTEND;TZID=UTC:20161107T203000
DTSTAMP:20260423T164452
CREATED:20161101T160846Z
LAST-MODIFIED:20161101T160846Z
UID:2196-1478547000-1478550600@www.baptisten-winschoten.nl
SUMMARY:Bestuurlijke raadsvergadering
DESCRIPTION:Bestuurlijke raadsvergadering
URL:https://www.baptisten-winschoten.nl/item/bestuurlijke-raadsvergadering-16/
LOCATION:Kerkgebouw\, Azaleastraat 16A\, Winschoten\, Nederland
CATEGORIES:Gemeente activiteiten
END:VEVENT
BEGIN:VEVENT
DTSTART;TZID=UTC:20161011T193000
DTEND;TZID=UTC:20161011T203000
DTSTAMP:20260423T164452
CREATED:20161002T145314Z
LAST-MODIFIED:20161002T145314Z
UID:2138-1476214200-1476217800@www.baptisten-winschoten.nl
SUMMARY:Bestuurlijke raadsvergadering
DESCRIPTION:Bestuurlijke raadsvergadering
URL:https://www.baptisten-winschoten.nl/item/bestuurlijke-raadsvergadering-15/
LOCATION:Kerkgebouw\, Azaleastraat 16A\, Winschoten\, Nederland
CATEGORIES:Gemeente activiteiten
END:VEVENT
BEGIN:VEVENT
DTSTART;TZID=UTC:20160922T193000
DTEND;TZID=UTC:20160922T210000
DTSTAMP:20260423T164452
CREATED:20160904T115333Z
LAST-MODIFIED:20160904T115333Z
UID:2047-1474572600-1474578000@www.baptisten-winschoten.nl
SUMMARY:Gemeenteavond
DESCRIPTION:Gemeenteavond voor zowel leden als vrienden van de gemeente
URL:https://www.baptisten-winschoten.nl/item/gemeenteavond/
LOCATION:Kerkgebouw\, Azaleastraat 16A\, Winschoten\, Nederland
CATEGORIES:Gemeente activiteiten
END:VEVENT
BEGIN:VEVENT
DTSTART;TZID=UTC:20160921T143000
DTEND;TZID=UTC:20160921T160000
DTSTAMP:20260423T164452
CREATED:20160904T115142Z
LAST-MODIFIED:20160904T115142Z
UID:2045-1474468200-1474473600@www.baptisten-winschoten.nl
SUMMARY:Seniorenmiddag
DESCRIPTION:Seniorenmiddag
URL:https://www.baptisten-winschoten.nl/item/seniorenmiddag/
LOCATION:Kerkgebouw\, Azaleastraat 16A\, Winschoten\, Nederland
CATEGORIES:Gemeente activiteiten
END:VEVENT
BEGIN:VEVENT
DTSTART;TZID=UTC:20160919T193000
DTEND;TZID=UTC:20160919T203000
DTSTAMP:20260423T164452
CREATED:20160904T115103Z
LAST-MODIFIED:20160904T115103Z
UID:2042-1474313400-1474317000@www.baptisten-winschoten.nl
SUMMARY:Bestuurlijke raadsvergadering
DESCRIPTION:Bestuurlijke raadsvergadering
URL:https://www.baptisten-winschoten.nl/item/bestuurlijke-raadsvergadering-14/
LOCATION:Kerkgebouw\, Azaleastraat 16A\, Winschoten\, Nederland
CATEGORIES:Gemeente activiteiten
END:VEVENT
BEGIN:VEVENT
DTSTART;TZID=UTC:20160918T110000
DTEND;TZID=UTC:20160918T150000
DTSTAMP:20260423T164452
CREATED:20160904T114916Z
LAST-MODIFIED:20160904T114916Z
UID:2038-1474196400-1474210800@www.baptisten-winschoten.nl
SUMMARY:Fietstocht (aansluitend na dienst)
DESCRIPTION:Fietstocht aansluitend na de dienst\nMeer informatie in de kerk of in het maandvenster
URL:https://www.baptisten-winschoten.nl/item/fietstocht-aansluitend-dienst/
LOCATION:Kerkgebouw\, Azaleastraat 16A\, Winschoten\, Nederland
CATEGORIES:Gemeente activiteiten
END:VEVENT
END:VCALENDAR